Workbook

Sheet Ementas Geral 1ºP 21-22
E2: DIETA MEDITERRÂNICA - Lote 2 1º CEB
A4: 0 | B4: 0 | C4: 0 | D4: 0 | E4: 0
B5: 0 | C5: Semana
B6: 0 | F6: VE (KJ) | G6: VE (Kcal) | H6: Lip. (g) | I6: AG Sat. (g) | J6: HC (g) | K6: Prot. (g) | L6: Sal (g) | M6: Sal (g)
A7: Segunda-Feira | B7: 0 | C7: Sopa
B8: 0 | C8: Prato e Vegetais
B9: 0
B10: 0 | C10: Sobremesa
B11: 0 | C11: Pão
B12: 0 | C12: 0
B13: 0 | F13: VE (KJ) | G13: VE (Kcal) | H13: Lip. (g) | I13: AG Sat. (g) | J13: HC (g) | K13: Prot. (g) | L13: Sal (g) | M13: Sal (g)
A14: Terça-Feira | B14: 0 | C14: =$C$7 -> Sopa
B15: 0 | C15: =$C$8 -> Prato e Vegetais
B16: 0 | C16: =$C$9 -> 0
B17: 0 | C17: =$C$10 -> Sobremesa
B18: 0 | C18: =$C$11 -> Pão
B19: 0 | C19: 0
B20: 0 | F20: VE (KJ) | G20: VE (Kcal) | H20: Lip. (g) | I20: AG Sat. (g) | J20: HC (g) | K20: Prot. (g) | L20: Sal (g) | M20: Sal (g)
A21: Quarta-Feira | B21: 0 | C21: =$C$7 -> Sopa
B22: 0 | C22: =$C$8 -> Prato e Vegetais
B23: 0 | C23: =$C$9 -> 0
B24: 0 | C24: =$C$10 -> Sobremesa
B25: 0 | C25: =$C$11 -> Pão
B26: 0 | C26: 0
B27: 0 | F27: VE (KJ) | G27: VE (Kcal) | H27: Lip. (g) | I27: AG Sat. (g) | J27: HC (g) | K27: Prot. (g) | L27: Sal (g) | M27: Sal (g)
A28: Quinta-Feira | B28: 0 | C28: =$C$7 -> Sopa
B29: 0 | C29: =$C$8 -> Prato e Vegetais
B30: 0 | C30: =$C$9 -> 0
B31: 0 | C31: =$C$10 -> Sobremesa
B32: 0 | C32: =$C$11 -> Pão
B33: 0 | C33: 0
B34: 0 | F34: VE (KJ) | G34: VE (Kcal) | H34: Lip. (g) | I34: AG Sat. (g) | J34: HC (g) | K34: Prot. (g) | L34: Sal (g) | M34: Sal (g)
A35: Sexta-Feira | B35: 0 | C35: =$C$7 -> Sopa
B36: 0 | C36: =$C$8 -> Prato e Vegetais
B37: 0 | C37: =$C$9 -> 0
B38: 0 | C38: =$C$10 -> Sobremesa
B39: 0 | C39: =$C$11 -> Pão
A40: A sua refeição contém ou pode conter as seguintes substâncias ou produtos e seus derivados: (1) Cereais que contêm glúten, (2) Crustáceos, (3) Ovos, (4) Peixes, (5) Amendoins, (6) Soja, (7) Leite, (8) Frutos de casca rija, (9) Aipo, (10) Mostarda, (11) Sementes de sésamo, (12) Dióxido de enxofre e sulfitos, (13) Tremoço, (14) Moluscos. Para quem não é alérgico ou intolerante, estas substâncias ou produtos são completamente inofensivas. Caso necessite informação adicional sobre os produtos em causa deve solicitar aos funcionários. Declaração nutricional: valores por dose, calculados a partir dos valores médios conhecidos dos ingredientes utilizados, segundo o Instituto Nacional de Saúde Dr. Ricardo Jorge, Tabela da Composição de Alimentos (2007), e a informação disponibilizada pelos fornecedores. Legenda: VE - Valor energético, Líp. - Lípidos, AG Sat. - Ácidos Gordos Saturados, HC - Hidratos de Carbono, Prot. - Proteínas.
B41: 0 | C41: Semana 1 | E41: 13 a 17 de setembro
B42: 0 | F42: VE (kJ) | G42: VE (kcal) | H42: Lip. (g) | I42: AG Sat. (g) | J42: HC (g) | K42: Prot. (g) | L42: Sal (g) | M42: Açúcar (g)
A43: Segunda-Feira | B43: 0 | C43: Sopa
B44: 0 | C44: Prato
B45: 0 | C45: Salada
B46: 0 | C46: Sobremesa
B47: 0 | C47: Pão
B48: 0 | C48: 0
B49: 0 | F49: VE (kJ) | G49: VE (kcal) | H49: Lip. (g) | I49: AG Sat. (g) | J49: HC (g) | K49: Prot. (g) | L49: Sal (g) | M49: Açúcar (g)
A50: Terça-Feira | B50: 0 | C50: =$C$7 -> Sopa | E50: Couve branca com cenoura ripada(1)(3)(6)(7)(8)(12) | F50: =G50*4.184 -> 302.0848 | G50: ='Ementas Veg 1ºP 21-22'!G50+28.1-31.3 -> 72.2 | H50: ='Ementas Veg 1ºP 21-22'!H50 -> 1.2 | I50: ='Ementas Veg 1ºP 21-22'!I50 -> 0.1 | J50: ='Ementas Veg 1ºP 21-22'!J50+6.1-6.7 -> 10.7 | K50: ='Ementas Veg 1ºP 21-22'!K50+0.6-0.9 -> 2.6 | L50: ='Ementas Veg 1ºP 21-22'!L50 -> 0.22 | M50: ='Ementas Veg 1ºP 21-22'!M50+0.1-0.4 -> 4 | N50: FT
B51: 0 | C51: Prato | E51: Atum com ovo e salada russa(3)(4) | F51: =G51*4.184 -> 1501.6376 | G51: 358.9 | H51: 18.5 | I51: 2.2 | J51: 18.3 | K51: 27.3 | L51: 1.32 | M51: 3.4 | N51: FT
B52: 0 | C52: Salada | E52: Alface, pepino e tomate | F52: =G52*4.184 -> 62.76 | G52: 15 | H52: 0.3 | I52: 0 | J52: 1.5 | K52: 1.2 | L52: 0.03 | M52: 1.5 | N52: FT
B53: 0 | C53: =$C$10 -> Sobremesa | E53: Fruta da época (min. 3 variedades) / Iogurte(7) | F53: 157.9 / 372.4 | G53: 37.7 / 89.0 | H53: 0.3 / 2.0 | I53: 0.0 / 1.1 | J53: 7.8 / 12.6 | K53: 0.4 / 5.1 | L53: 0.0 / 0.2 | M53: 7.7 / 12.6 | N53: FT
B54: 0 | C54: =$C$11 -> Pão | E54: Pão de mistura(1) | F54: Pode ser solicitada a Ficha Técnica do Pão aos funcionários.
B55: 0
B56: 0 | F56: VE (kJ) | G56: VE (kcal) | H56: Lip. (g) | I56: AG Sat. (g) | J56: HC (g) | K56: Prot. (g) | L56: Sal (g) | M56: Açúcar (g)
A57: Quarta-Feira | B57: 0 | C57: =$C$7 -> Sopa | E57: Feijão vermelho e couve-lombarda(1)(3)(6)(7)(8)(12) | F57: =G57*4.184 -> 576.5552 | G57: ='Ementas Veg 1ºP 21-22'!G57+28.1-31.3+36 -> 137.8 | H57: ='Ementas Veg 1ºP 21-22'!H57+0.2 -> 1.5 | I57: ='Ementas Veg 1ºP 21-22'!I57 -> 0.2 | J57: ='Ementas Veg 1ºP 21-22'!J57+6.1-6.7+7.1 -> 21.9 | K57: ='Ementas Veg 1ºP 21-22'!K57+0.6-0.9+1.2 -> 5.8 | L57: ='Ementas Veg 1ºP 21-22'!L57 -> 0.18 | M57: ='Ementas Veg 1ºP 21-22'!M57+0.1-0.4+0.3 -> 4 | N57: FT
B58: 0 | C58: Prato | E58: Febras de porco grelhadas com molho de cogumelos(12), Arroz de milho e ervilhas | F58: =G58*4.184 -> 1407.916 | G58: 336.5 | H58: 12.8 | I58: 3.3 | J58: 28 | K58: 25.2 | L58: 0.3 | M58: 2.2 | N58: C | O58: A
B59: 0 | C59: Salada | E59: Cenoura, couve roxa e milho | F59: =G59*4.184 -> 204.5976 | G59: 48.9 | H59: 0.2 | I59: 0 | J59: 6.1 | K59: 3.2 | L59: 0.06 | M59: 3.7 | N59: FT
B60: 0 | C60: =$C$10 -> Sobremesa | E60: Fruta da época (min. 3 variedades) | F60: =G60*4.184 -> 157.90842 | G60: 37.741018 | H60: 0.2639232 | I60: 0.045504 | J60: 7.7933184 | K60: 0.4034688 | L60: 0.01281696 | M60: 7.720512 | N60: FT
B61: 0 | C61: =$C$11 -> Pão | E61: Pão de mistura(1) | F61: Pode ser solicitada a Ficha Técnica do Pão aos funcionários.
B62: 0
B63: 0 | F63: VE (kJ) | G63: VE (kcal) | H63: Lip. (g) | I63: AG Sat. (g) | J63: HC (g) | K63: Prot. (g) | L63: Sal (g) | M63: Açúcar (g)
A64: Quinta-Feira | B64: 0 | C64: =$C$7 -> Sopa | E64: Feijão-verde com cenoura(1)(3)(6)(7)(8)(12) | F64: =G64*4.184 -> 289.5328 | G64: ='Ementas Veg 1ºP 21-22'!G64+28.1-31.3 -> 69.2 | H64: ='Ementas Veg 1ºP 21-22'!H64 -> 1.2 | I64: ='Ementas Veg 1ºP 21-22'!I64 -> 0.2 | J64: ='Ementas Veg 1ºP 21-22'!J64+6.1-6.7 -> 10.9 | K64: ='Ementas Veg 1ºP 21-22'!K64+0.6-0.9 -> 1.9 | L64: ='Ementas Veg 1ºP 21-22'!L64 -> 0.18 | M64: ='Ementas Veg 1ºP 21-22'!M64+0.1-0.4 -> 3.9 | N64: FT
B65: 0 | C65: Prato | E65: Solha no forno(4)(14) com Batatas alouradas | F65: =G65*4.184 -> 873.2008 | G65: 208.7 | H65: 6.4 | I65: 1 | J65: 18.3 | K65: 18.4 | L65: 0.38 | M65: 2.3 | N65: P | O65: A
B66: 0 | C66: Salada | E66: Alface, beterraba e pepino | F66: =G66*4.184 -> 93.7216 | G66: 22.4 | H66: 0.2 | I66: 0 | J66: 2.6 | K66: 1.5 | L66: 0.09 | M66: 2.6 | N66: FT
B67: 0 | C67: =$C$10 -> Sobremesa | E67: Fruta da época (min. 3 variedades) | F67: =G67*4.184 -> 157.90842 | G67: 37.741018 | H67: 0.2639232 | I67: 0.045504 | J67: 7.7933184 | K67: 0.4034688 | L67: 0.01281696 | M67: 7.720512 | N67: FT
B68: 0 | C68: =$C$11 -> Pão | E68: Pão de mistura(1) | F68: Pode ser solicitada a Ficha Técnica do Pão aos funcionários.
B69: 0
B70: 0 | F70: VE (kJ) | G70: VE (kcal) | H70: Lip. (g) | I70: AG Sat. (g) | J70: HC (g) | K70: Prot. (g) | L70: Sal (g) | M70: Açúcar (g)
A71: Sexta-Feira | B71: 0 | C71: =$C$7 -> Sopa | E71: Grão-de-bico com nabiça(1)(3)(6)(7)(8)(12) | F71: =G71*4.184 -> 461.4952 | G71: ='Ementas Veg 1ºP 21-22'!G71+28.1-31.3 -> 110.3 | H71: ='Ementas Veg 1ºP 21-22'!H71 -> 1.9 | I71: ='Ementas Veg 1ºP 21-22'!I71 -> 0.3 | J71: ='Ementas Veg 1ºP 21-22'!J71+6.1-6.7 -> 16 | K71: ='Ementas Veg 1ºP 21-22'!K71+0.6-0.9 -> 4.6 | L71: ='Ementas Veg 1ºP 21-22'!L71 -> 0.2 | M71: ='Ementas Veg 1ºP 21-22'!M71+0.1-0.4 -> 4.4 | N71: FT
B72: 0 | C72: Prato | E72: Frango estufado com ervilhas, Massa fusilli cozida(1) | F72: =G72*4.184 -> 1647.2408 | G72: 393.7 | H72: 20.4 | I72: 4.3 | J72: 24.3 | K72: 26.3 | L72: 0.44 | M72: 2.5 | N72: C | O72: A
B73: 0 | C73: Salada | E73: Tomate, milho e pimento | F73: =G73*4.184 -> 94.5584 | G73: 22.6 | H73: 0.3 | I73: 0 | J73: 2.3 | K73: 1.7 | L73: 0.02 | M73: 0.9 | N73: FT
B74: 0 | C74: =$C$10 -> Sobremesa | E74: Fruta da época (min. 3 variedades) | F74: =G74*4.184 -> 157.90842 | G74: 37.741018 | H74: 0.2639232 | I74: 0.045504 | J74: 7.7933184 | K74: 0.4034688 | L74: 0.01281696 | M74: 7.720512 | N74: FT
B75: 0 | C75: =$C$11 -> Pão | E75: Pão de mistura(1) | F75: Pode ser solicitada a Ficha Técnica do Pão aos funcionários.
A76: =+A$40 -> A sua refeição contém ou pode conter as seguintes substâncias ou produtos e seus derivados: (1) Cereais que contêm glúten, (2) Crustáceos, (3) Ovos, (4) Peixes, (5) Amendoins, (6) Soja, (7) Leite, (8) Frutos de casca rija, (9) Aipo, (10) Mostarda, (11) Sementes de sésamo, (12) Dióxido de enxofre e sulfitos, (13) Tremoço, (14) Moluscos. Para quem não é alérgico ou intolerante, estas substâncias ou produtos são completamente inofensivas. Caso necessite informação adicional sobre os produtos em causa deve solicitar aos funcionários. Declaração nutricional: valores por dose, calculados a partir dos valores médios conhecidos dos ingredientes utilizados, segundo o Instituto Nacional de Saúde Dr. Ricardo Jorge, Tabela da Composição de Alimentos (2007), e a informação disponibilizada pelos fornecedores. Legenda: VE - Valor energético, Líp. - Lípidos, AG Sat. - Ácidos Gordos Saturados, HC - Hidratos de Carbono, Prot. - Proteínas.
B77: 0 | C77: Semana 2 | E77: 20 a 24 de setembro
B78: 0 | F78: VE (KJ) | G78: VE (Kcal) | H78: Lip. (g) | I78: AG Sat. (g) | J78: HC (g) | K78: Prot. (g) | L78: Sal (g) | M78: Açúcar (g)
A79: Segunda-Feira | B79: 0 | C79: Sopa | E79: Nabo com espinafres(1)(3)(6)(7)(8)(9)(12) | F79: =G79*4.184 -> 294.5536 | G79: ='Ementas Veg 1ºP 21-22'!G79+28.1-31.3 -> 70.4 | H79: ='Ementas Veg 1ºP 21-22'!H79 -> 1.7 | I79: ='Ementas Veg 1ºP 21-22'!I79 -> 0.2 | J79: ='Ementas Veg 1ºP 21-22'!J79+6.1-6.7 -> 9.6 | K79: ='Ementas Veg 1ºP 21-22'!K79+0.6-0.9 -> 2.6 | L79: ='Ementas Veg 1ºP 21-22'!L79 -> 0.28 | M79: ='Ementas Veg 1ºP 21-22'!M79+0.1-0.4 -> 3 | N79: FT
B80: 0 | C80: Prato | E80: Carne à bolonhesa(1)(3)(6)(7)(12) com Esparguete(1) | F80: =G80*4.184 -> 1389.5064 | G80: 332.1 | H80: 14.5 | I80: 4.3 | J80: 23.1 | K80: 26.2 | L80: 0.35 | M80: 2.2 | N80: C | O80: A
B81: 0 | C81: Salada | E81: Cenoura, pimento e tomate | F81: =G81*4.184 -> 82.4248 | G81: 19.7 | H81: 0.2 | I81: 0 | J81: 2.9 | K81: 0.7 | L81: 0.04 | M81: 2.8 | N81: FT
B82: 0 | C82: Sobremesa | E82: Fruta da época (min. 3 variedades) | F82: =G82*4.184 -> 157.90842 | G82: 37.741018 | H82: 0.2639232 | I82: 0.045504 | J82: 7.7933184 | K82: 0.4034688 | L82: 0.01281696 | M82: 7.720512 | N82: FT
B83: 0 | C83: Pão | E83: Pão de mistura(1) | F83: Pode ser solicitada a Ficha Técnica do Pão aos funcionários.
B84: 0
B85: 0 | F85: VE (KJ) | G85: VE (Kcal) | H85: Lip. (g) | I85: AG Sat. (g) | J85: HC (g) | K85: Prot. (g) | L85: Sal (g) | M85: Açúcar (g)
A86: Terça-Feira | B86: 0 | C86: =$C$7 -> Sopa | E86: Alho francês com cenoura e nabo(1)(3)(6)(7)(8)(9)(12) | F86: =G86*4.184 -> 321.3312 | G86: ='Ementas Veg 1ºP 21-22'!G86+28.1-31.3 -> 76.8 | H86: ='Ementas Veg 1ºP 21-22'!H86 -> 1.4 | I86: ='Ementas Veg 1ºP 21-22'!I86 -> 0.2 | J86: ='Ementas Veg 1ºP 21-22'!J86+6.1-6.7 -> 11.9 | K86: ='Ementas Veg 1ºP 21-22'!K86+0.6-0.9 -> 2.1 | L86: ='Ementas Veg 1ºP 21-22'!L86 -> 0.19 | M86: ='Ementas Veg 1ºP 21-22'!M86+0.1-0.4 -> 5 | N86: FT
B87: 0 | C87: Prato | E87: Arinca no forno(4)(14) com Salada camponesa | F87: =G87*4.184 -> 963.5752 | G87: 230.3 | H87: 5.6 | I87: 0.9 | J87: 21.7 | K87: 19.6 | L87: 0.61 | M87: 5 | N87: P | O87: A
B88: 0 | C88: Salada | E88: Alface, milho e beterraba | F88: =G88*4.184 -> 177.4016 | G88: 42.4 | H88: 0.3 | I88: 0 | J88: 4.7 | K88: 3.1 | L88: 0.1 | M88: 2.8 | N88: FT
B89: 0 | C89: =$C$10 -> Sobremesa | E89: Fruta da época (min. 3 variedades) / Pudim(3)(7) | F89: 157.9 / 224.7 | G89: 37.7 / 53.7 | H89: 0.3 / 1.7 | I89: 0.0 / 0.7 | J89: 7.8 / 7.4 | K89: 0.4 / 2.1 | L89: 0.0 / 0.1 | M89: 7.7 / 7.4 | N89: FT
B90: 0 | C90: =$C$11 -> Pão | E90: Pão de mistura(1) | F90: Pode ser solicitada a Ficha Técnica do Pão aos funcionários.
B91: 0
B92: 0 | F92: VE (KJ) | G92: VE (Kcal) | H92: Lip. (g) | I92: AG Sat. (g) | J92: HC (g) | K92: Prot. (g) | L92: Sal (g) | M92: Açúcar (g)
A93: Quarta-Feira | B93: 0 | C93: =$C$7 -> Sopa | E93: Creme de cenoura com couve-flor(1)(3)(6)(7)(8)(12) | F93: =G93*4.184 -> 309.616 | G93: ='Ementas Veg 1ºP 21-22'!G93+28.1-31.3 -> 74 | H93: ='Ementas Veg 1ºP 21-22'!H93 -> 1.1 | I93: ='Ementas Veg 1ºP 21-22'!I93 -> 0.1 | J93: ='Ementas Veg 1ºP 21-22'!J93+6.1-6.7 -> 11.7 | K93: ='Ementas Veg 1ºP 21-22'!K93+0.6-0.9 -> 2.3 | L93: ='Ementas Veg 1ºP 21-22'!L93 -> 0.21 | M93: ='Ementas Veg 1ºP 21-22'!M93+0.1-0.4 -> 4.9 | N93: FT
B94: 0 | C94: Prato | E94: Vitela estufada aos cubos com cenoura, Arroz de ervilhas | F94: =G94*4.184 -> 1425.0704 | G94: 340.6 | H94: 13.6 | I94: 3.9 | J94: 29.8 | K94: 22.5 | L94: 1.76 | M94: 3.9 | N94: C | O94: A
B95: 0 | C95: Salada | E95: Cenoura, couve roxa e pepino | F95: =G95*4.184 -> 120.9176 | G95: 28.9 | H95: 0.1 | I95: 0 | J95: 4 | K95: 1.6 | L95: 0.06 | M95: 3.5 | N95: FT
B96: 0 | C96: =$C$10 -> Sobremesa | E96: Fruta da época (min. 3 variedades) | F96: =G96*4.184 -> 157.90842 | G96: 37.741018 | H96: 0.2639232 | I96: 0.045504 | J96: 7.7933184 | K96: 0.4034688 | L96: 0.01281696 | M96: 7.720512 | N96: FT
B97: 0 | C97: =$C$11 -> Pão | E97: Pão de mistura(1) | F97: Pode ser solicitada a Ficha Técnica do Pão aos funcionários.
B98: 0
B99: 0 | F99: VE (KJ) | G99: VE (Kcal) | H99: Lip. (g) | I99: AG Sat. (g) | J99: HC (g) | K99: Prot. (g) | L99: Sal (g) | M99: Açúcar (g)
A100: Quinta-Feira | B100: 0 | C100: =$C$7 -> Sopa | E100: Feijão branco com couve portuguesa(1)(3)(6)(7)(8)(12) | F100: =G100*4.184 -> 452.7088 | G100: ='Ementas Veg 1ºP 21-22'!G100+28.1-31.3 -> 108.2 | H100: ='Ementas Veg 1ºP 21-22'!H100 -> 1.5 | I100: ='Ementas Veg 1ºP 21-22'!I100 -> 0.2 | J100: ='Ementas Veg 1ºP 21-22'!J100+6.1-6.7 -> 15.9 | K100: ='Ementas Veg 1ºP 21-22'!K100+0.6-0.9 -> 4.7 | L100: ='Ementas Veg 1ºP 21-22'!L100 -> 0.16 | M100: ='Ementas Veg 1ºP 21-22'!M100+0.1-0.4 -> 5.2 | N100: FT
B101: 0 | C101: Prato | E101: Bacalhau à Brás(1)(3)(4)(6)(7)(9)(10)(13)(14) | F101: =G101*4.184 -> 1343.4824 | G101: 321.1 | H101: 18.7 | I101: 6.2 | J101: 15.3 | K101: 22 | L101: 1.91 | M101: 0.7 | N101: FT
B102: 0 | C102: Salada | E102: Alface, beterraba e milho | F102: =G102*4.184 -> 177.4016 | G102: 42.4 | H102: 0.3 | I102: 0 | J102: 4.7 | K102: 3.1 | L102: 0.1 | M102: 2.8 | N102: FT
...

Sheet Ementas Veg 1ºP 21-22
E2: DIETA VEGETARIANA - Lote 2 1º CEB
A4: 0 | B4: 0 | C4: 0 | D4: 0 | E4: 0
B5: 0 | C5: Semana
B6: 0 | F6: VE (KJ) | G6: VE (Kcal) | H6: Lip. (g) | I6: AG Sat. (g) | J6: HC (g) | K6: Prot. (g) | L6: Sal (g) | M6: Sal (g)
A7: Segunda-Feira | B7: 0 | C7: Sopa
B8: 0 | C8: Prato e Vegetais
B9: 0
B10: 0 | C10: Sobremesa
B11: 0 | C11: Pão
B12: 0 | C12: 0
B13: 0 | F13: VE (KJ) | G13: VE (Kcal) | H13: Lip. (g) | I13: AG Sat. (g) | J13: HC (g) | K13: Prot. (g) | L13: Sal (g) | M13: Sal (g)
A14: Terça-Feira | B14: 0 | C14: =$C$7 -> Sopa
B15: 0 | C15: =$C$8 -> Prato e Vegetais
B16: 0 | C16: =$C$9 -> 0
B17: 0 | C17: =$C$10 -> Sobremesa
B18: 0 | C18: =$C$11 -> Pão
B19: 0 | C19: 0
B20: 0 | F20: VE (KJ) | G20: VE (Kcal) | H20: Lip. (g) | I20: AG Sat. (g) | J20: HC (g) | K20: Prot. (g) | L20: Sal (g) | M20: Sal (g)
A21: Quarta-Feira | B21: 0 | C21: =$C$7 -> Sopa
B22: 0 | C22: =$C$8 -> Prato e Vegetais
B23: 0 | C23: =$C$9 -> 0
B24: 0 | C24: =$C$10 -> Sobremesa
B25: 0 | C25: =$C$11 -> Pão
B26: 0 | C26: 0
B27: 0 | F27: VE (KJ) | G27: VE (Kcal) | H27: Lip. (g) | I27: AG Sat. (g) | J27: HC (g) | K27: Prot. (g) | L27: Sal (g) | M27: Sal (g)
A28: Quinta-Feira | B28: 0 | C28: =$C$7 -> Sopa
B29: 0 | C29: =$C$8 -> Prato e Vegetais
B30: 0 | C30: =$C$9 -> 0
B31: 0 | C31: =$C$10 -> Sobremesa
B32: 0 | C32: =$C$11 -> Pão
B33: 0 | C33: 0
B34: 0 | F34: VE (KJ) | G34: VE (Kcal) | H34: Lip. (g) | I34: AG Sat. (g) | J34: HC (g) | K34: Prot. (g) | L34: Sal (g) | M34: Sal (g)
A35: Sexta-Feira | B35: 0 | C35: =$C$7 -> Sopa
B36: 0 | C36: =$C$8 -> Prato e Vegetais
B37: 0 | C37: =$C$9 -> 0
B38: 0 | C38: =$C$10 -> Sobremesa
B39: 0 | C39: =$C$11 -> Pão
A40: A sua refeição contém ou pode conter as seguintes substâncias ou produtos e seus derivados: (1) Cereais que contêm glúten, (2) Crustáceos, (3) Ovos, (4) Peixes, (5) Amendoins, (6) Soja, (7) Leite, (8) Frutos de casca rija, (9) Aipo, (10) Mostarda, (11) Sementes de sésamo, (12) Dióxido de enxofre e sulfitos, (13) Tremoço, (14) Moluscos. Para quem não é alérgico ou intolerante, estas substâncias ou produtos são completamente inofensivas. Caso necessite informação adicional sobre os produtos em causa deve solicitar aos funcionários. Declaração nutricional: valores por dose, calculados a partir dos valores médios conhecidos dos ingredientes utilizados, segundo o Instituto Nacional de Saúde Dr. Ricardo Jorge, Tabela da Composição de Alimentos (2007), e a informação disponibilizada pelos fornecedores. Legenda: VE - Valor energético, Líp. - Lípidos, AG Sat. - Ácidos Gordos Saturados, HC - Hidratos de Carbono, Prot. - Proteínas.
B41: 0 | C41: Semana 1 | E41: ='Ementas Geral 1ºP 21-22'!E41 -> 13 a 17 de setembro
B42: 0 | F42: VE (KJ) | G42: VE (Kcal) | H42: Lip. (g) | I42: AG Sat. (g) | J42: HC (g) | K42: Prot. (g) | L42: Sal (g) | M42: Açúcar (g)
A43: Segunda-Feira | B43: 0 | C43: Sopa
B44: 0 | C44: Prato
B45: 0 | C45: Salada
B46: 0 | C46: Sobremesa
B47: 0 | C47: Pão
B48: 0 | C48: 0
B49: 0 | F49: VE (KJ) | G49: VE (Kcal) | H49: Lip. (g) | I49: AG Sat. (g) | J49: HC (g) | K49: Prot. (g) | L49: Sal (g) | M49: Açúcar (g)
A50: Terça-Feira | B50: 0 | C50: =$C$7 -> Sopa | E50: Couve branca com cenoura ripada | F50: =G50*4.184 -> 315.4736 | G50: 75.4 | H50: 1.2 | I50: 0.1 | J50: 11.3 | K50: 2.9 | L50: 0.22 | M50: 4.3 | N50: FT
B51: 0 | C51: Prato | E51: Salada de 3 Feijões com batata cenoura e feijão verde(12) | F51: =G51*4.184 -> 1543.896 | G51: 369 | H51: 6.1 | I51: 1 | J51: 50 | K51: 18.5 | L51: 0.35 | M51: 5.7 | N51: FT
B52: 0 | C52: Salada | E52: ='Ementas Geral 1ºP 21-22'!E52 -> Alface, pepino e tomate | F52: ='Ementas Geral 1ºP 21-22'!F52 -> 62.76 | G52: ='Ementas Geral 1ºP 21-22'!G52 -> 15 | H52: ='Ementas Geral 1ºP 21-22'!H52 -> 0.3 | I52: ='Ementas Geral 1ºP 21-22'!I52 -> 0 | J52: ='Ementas Geral 1ºP 21-22'!J52 -> 1.5 | K52: ='Ementas Geral 1ºP 21-22'!K52 -> 1.2 | L52: ='Ementas Geral 1ºP 21-22'!L52 -> 0.03 | M52: ='Ementas Geral 1ºP 21-22'!M52 -> 1.5 | N52: FT
B53: 0 | C53: =$C$10 -> Sobremesa | E53: Fruta da época (min. 3 variedades) / Gelatina(12) | F53: 157.9 / 251.0 | G53: 37.7 / 60.0 | H53: 0.3 / 0.0 | I53: 0.0 / 0.0 | J53: 7.8 / 15.0 | K53: 0.4 / 0.0 | L53: 0.0 / 0.0 | M53: 7.7 / 15.0 | N53: FT
B54: 0 | C54: =$C$11 -> Pão | E54: Pão de mistura(1) | F54: Pode ser solicitada a Ficha Técnica do Pão aos funcionários.
B55: 0
B56: 0 | F56: VE (KJ) | G56: VE (Kcal) | H56: Lip. (g) | I56: AG Sat. (g) | J56: HC (g) | K56: Prot. (g) | L56: Sal (g) | M56: Açúcar (g)
A57: Quarta-Feira | B57: 0 | C57: =$C$7 -> Sopa | E57: Feijão vermelho e couve-lombarda | F57: =G57*4.184 -> 439.32 | G57: 105 | H57: 1.3 | I57: 0.2 | J57: 15.4 | K57: 4.9 | L57: 0.18 | M57: 4 | N57: FT
B58: 0 | C58: Prato | E58: Lentilhas estufadas com legumes (alho francês, couve flor e espinafres)(9), Arroz de milho | F58: =G58*4.184 -> 1449.756 | G58: 346.5 | H58: 6 | I58: 0.9 | J58: 51 | K58: 17.3 | L58: 0.28 | M58: 2.9 | N58: V | O58: A
B59: 0 | C59: Salada | E59: ='Ementas Geral 1ºP 21-22'!E59 -> Cenoura, couve roxa e milho | F59: ='Ementas Geral 1ºP 21-22'!F59 -> 204.5976 | G59: ='Ementas Geral 1ºP 21-22'!G59 -> 48.9 | H59: ='Ementas Geral 1ºP 21-22'!H59 -> 0.2 | I59: ='Ementas Geral 1ºP 21-22'!I59 -> 0 | J59: ='Ementas Geral 1ºP 21-22'!J59 -> 6.1 | K59: ='Ementas Geral 1ºP 21-22'!K59 -> 3.2 | L59: ='Ementas Geral 1ºP 21-22'!L59 -> 0.06 | M59: ='Ementas Geral 1ºP 21-22'!M59 -> 3.7 | N59: FT
B60: 0 | C60: =$C$10 -> Sobremesa | E60: ='Ementas Geral 1ºP 21-22'!E60 -> Fruta da época (min. 3 variedades) | F60: ='Ementas Geral 1ºP 21-22'!F60 -> 157.90842 | G60: ='Ementas Geral 1ºP 21-22'!G60 -> 37.741018 | H60: ='Ementas Geral 1ºP 21-22'!H60 -> 0.2639232 | I60: ='Ementas Geral 1ºP 21-22'!I60 -> 0.045504 | J60: ='Ementas Geral 1ºP 21-22'!J60 -> 7.7933184 | K60: ='Ementas Geral 1ºP 21-22'!K60 -> 0.4034688 | L60: ='Ementas Geral 1ºP 21-22'!L60 -> 0.01281696 | M60: ='Ementas Geral 1ºP 21-22'!M60 -> 7.720512 | N60: FT
B61: 0 | C61: =$C$11 -> Pão | E61: Pão de mistura(1) | F61: Pode ser solicitada a Ficha Técnica do Pão aos funcionários.
B62: 0
B63: 0 | F63: VE (KJ) | G63: VE (Kcal) | H63: Lip. (g) | I63: AG Sat. (g) | J63: HC (g) | K63: Prot. (g) | L63: Sal (g) | M63: Açúcar (g)
A64: Quinta-Feira | B64: 0 | C64: =$C$7 -> Sopa | E64: Feijão-verde com cenoura | F64: =G64*4.184 -> 302.9216 | G64: 72.4 | H64: 1.2 | I64: 0.2 | J64: 11.5 | K64: 2.2 | L64: 0.18 | M64: 4.2 | N64: FT
B65: 0 | C65: Prato | E65: Gratinado de leguminosas (feijão branco e feijão preto) com legumes (cenoura, alho francês, pimento) no forno(6)(9), Batata alourada | F65: =G65*4.184 -> 1573.6024 | G65: 376.1 | H65: 6.7 | I65: 1 | J65: 50.1 | K65: 19.3 | L65: 0.35 | M65: 4.9 | N65: V | O65: A
B66: 0 | C66: Salada | E66: ='Ementas Geral 1ºP 21-22'!E66 -> Alface, beterraba e pepino | F66: ='Ementas Geral 1ºP 21-22'!F66 -> 93.7216 | G66: ='Ementas Geral 1ºP 21-22'!G66 -> 22.4 | H66: ='Ementas Geral 1ºP 21-22'!H66 -> 0.2 | I66: ='Ementas Geral 1ºP 21-22'!I66 -> 0 | J66: ='Ementas Geral 1ºP 21-22'!J66 -> 2.6 | K66: ='Ementas Geral 1ºP 21-22'!K66 -> 1.5 | L66: ='Ementas Geral 1ºP 21-22'!L66 -> 0.09 | M66: ='Ementas Geral 1ºP 21-22'!M66 -> 2.6 | N66: FT
B67: 0 | C67: =$C$10 -> Sobremesa | E67: ='Ementas Geral 1ºP 21-22'!E67 -> Fruta da época (min. 3 variedades) | F67: =G67*4.184 -> 157.90842 | G67: ='Ementas Geral 1ºP 21-22'!G67 -> 37.741018 | H67: ='Ementas Geral 1ºP 21-22'!H67 -> 0.2639232 | I67: ='Ementas Geral 1ºP 21-22'!I67 -> 0.045504 | J67: ='Ementas Geral 1ºP 21-22'!J67 -> 7.7933184 | K67: ='Ementas Geral 1ºP 21-22'!K67 -> 0.4034688 | L67: ='Ementas Geral 1ºP 21-22'!L67 -> 0.01281696 | M67: ='Ementas Geral 1ºP 21-22'!M67 -> 7.720512 | N67: FT
B68: 0 | C68: =$C$11 -> Pão | E68: Pão de mistura(1) | F68: Pode ser solicitada a Ficha Técnica do Pão aos funcionários.
B69: 0
B70: 0 | F70: VE (KJ) | G70: VE (Kcal) | H70: Lip. (g) | I70: AG Sat. (g) | J70: HC (g) | K70: Prot. (g) | L70: Sal (g) | M70: Açúcar (g)
A71: Sexta-Feira | B71: 0 | C71: =$C$7 -> Sopa | E71: Grão-de-bico com nabiça | F71: =G71*4.184 -> 474.884 | G71: 113.5 | H71: 1.9 | I71: 0.3 | J71: 16.6 | K71: 4.9 | L71: 0.2 | M71: 4.7 | N71: FT
B72: 0 | C72: Prato | E72: Ervilhas estufadas com legumes (cenoura, pimento e alho francês)(9), Massa fusilli cozida(1) | F72: =G72*4.184 -> 1194.9504 | G72: 285.6 | H72: 6.6 | I72: 1 | J72: 36 | K72: 13.2 | L72: 0.3 | M72: 5.5 | N72: V | O72: A
B73: 0 | C73: Salada | E73: ='Ementas Geral 1ºP 21-22'!E73 -> Tomate, milho e pimento | F73: ='Ementas Geral 1ºP 21-22'!F73 -> 94.5584 | G73: ='Ementas Geral 1ºP 21-22'!G73 -> 22.6 | H73: ='Ementas Geral 1ºP 21-22'!H73 -> 0.3 | I73: ='Ementas Geral 1ºP 21-22'!I73 -> 0 | J73: ='Ementas Geral 1ºP 21-22'!J73 -> 2.3 | K73: ='Ementas Geral 1ºP 21-22'!K73 -> 1.7 | L73: ='Ementas Geral 1ºP 21-22'!L73 -> 0.02 | M73: ='Ementas Geral 1ºP 21-22'!M73 -> 0.9 | N73: FT
B74: 0 | C74: =$C$10 -> Sobremesa | E74: ='Ementas Geral 1ºP 21-22'!E74 -> Fruta da época (min. 3 variedades) | F74: ='Ementas Geral 1ºP 21-22'!F74 -> 157.90842 | G74: ='Ementas Geral 1ºP 21-22'!G74 -> 37.741018 | H74: ='Ementas Geral 1ºP 21-22'!H74 -> 0.2639232 | I74: ='Ementas Geral 1ºP 21-22'!I74 -> 0.045504 | J74: ='Ementas Geral 1ºP 21-22'!J74 -> 7.7933184 | K74: ='Ementas Geral 1ºP 21-22'!K74 -> 0.4034688 | L74: ='Ementas Geral 1ºP 21-22'!L74 -> 0.01281696 | M74: ='Ementas Geral 1ºP 21-22'!M74 -> 7.720512 | N74: FT
B75: 0 | C75: =$C$11 -> Pão | E75: Pão de mistura(1) | F75: Pode ser solicitada a Ficha Técnica do Pão aos funcionários.
A76: =+A$40 -> A sua refeição contém ou pode conter as seguintes substâncias ou produtos e seus derivados: (1) Cereais que contêm glúten, (2) Crustáceos, (3) Ovos, (4) Peixes, (5) Amendoins, (6) Soja, (7) Leite, (8) Frutos de casca rija, (9) Aipo, (10) Mostarda, (11) Sementes de sésamo, (12) Dióxido de enxofre e sulfitos, (13) Tremoço, (14) Moluscos. Para quem não é alérgico ou intolerante, estas substâncias ou produtos são completamente inofensivas. Caso necessite informação adicional sobre os produtos em causa deve solicitar aos funcionários. Declaração nutricional: valores por dose, calculados a partir dos valores médios conhecidos dos ingredientes utilizados, segundo o Instituto Nacional de Saúde Dr. Ricardo Jorge, Tabela da Composição de Alimentos (2007), e a informação disponibilizada pelos fornecedores. Legenda: VE - Valor energético, Líp. - Lípidos, AG Sat. - Ácidos Gordos Saturados, HC - Hidratos de Carbono, Prot. - Proteínas.
B77: 0 | C77: Semana 2 | E77: ='Ementas Geral 1ºP 21-22'!E77 -> 20 a 24 de setembro
B78: 0 | F78: VE (KJ) | G78: VE (Kcal) | H78: Lip. (g) | I78: AG Sat. (g) | J78: HC (g) | K78: Prot. (g) | L78: Sal (g) | M78: Açúcar (g)
A79: Segunda-Feira | B79: 0 | C79: Sopa | E79: Nabo com espinafres(9) | F79: =G79*4.184 -> 307.9424 | G79: 73.6 | H79: 1.7 | I79: 0.2 | J79: 10.2 | K79: 2.9 | L79: 0.28 | M79: 3.3 | N79: FT
B80: 0 | C80: Prato | E80: Lentilhas à bolonhesa com Esparguete(1) | F80: =G80*4.184 -> 1398.7112 | G80: 334.3 | H80: 6 | I80: 0.9 | J80: 48.5 | K80: 16.9 | L80: 0.26 | M80: 4.5 | N80: V | O80: A
B81: 0 | C81: Salada | E81: ='Ementas Geral 1ºP 21-22'!E81 -> Cenoura, pimento e tomate | F81: ='Ementas Geral 1ºP 21-22'!F81 -> 82.4248 | G81: ='Ementas Geral 1ºP 21-22'!G81 -> 19.7 | H81: ='Ementas Geral 1ºP 21-22'!H81 -> 0.2 | I81: ='Ementas Geral 1ºP 21-22'!I81 -> 0 | J81: ='Ementas Geral 1ºP 21-22'!J81 -> 2.9 | K81: ='Ementas Geral 1ºP 21-22'!K81 -> 0.7 | L81: ='Ementas Geral 1ºP 21-22'!L81 -> 0.04 | M81: ='Ementas Geral 1ºP 21-22'!M81 -> 2.8 | N81: FT
B82: 0 | C82: Sobremesa | E82: ='Ementas Geral 1ºP 21-22'!E82 -> Fruta da época (min. 3 variedades) | F82: ='Ementas Geral 1ºP 21-22'!F82 -> 157.90842 | G82: ='Ementas Geral 1ºP 21-22'!G82 -> 37.741018 | H82: ='Ementas Geral 1ºP 21-22'!H82 -> 0.2639232 | I82: ='Ementas Geral 1ºP 21-22'!I82 -> 0.045504 | J82: ='Ementas Geral 1ºP 21-22'!J82 -> 7.7933184 | K82: ='Ementas Geral 1ºP 21-22'!K82 -> 0.4034688 | L82: ='Ementas Geral 1ºP 21-22'!L82 -> 0.01281696 | M82: ='Ementas Geral 1ºP 21-22'!M82 -> 7.720512 | N82: FT
B83: 0 | C83: Pão | E83: Pão de mistura(1) | F83: Pode ser solicitada a Ficha Técnica do Pão aos funcionários.
B84: 0
B85: 0 | F85: VE (KJ) | G85: VE (Kcal) | H85: Lip. (g) | I85: AG Sat. (g) | J85: HC (g) | K85: Prot. (g) | L85: Sal (g) | M85: Açúcar (g)
A86: Terça-Feira | B86: 0 | C86: =$C$7 -> Sopa | E86: Alho francês com cenoura e nabo(9) | F86: =G86*4.184 -> 334.72 | G86: 80 | H86: 1.4 | I86: 0.2 | J86: 12.5 | K86: 2.4 | L86: 0.19 | M86: 5.3 | N86: FT
B87: 0 | C87: Prato | E87: Vegetais assados com cogumelos, feijão-frade e molho verde(9)(12), Batata assada | F87: =G87*4.184 -> 1558.9584 | G87: 372.6 | H87: 6.3 | I87: 1 | J87: 49.6 | K87: 19.4 | L87: 0.41 | M87: 4.4 | N87: V | O87: A
B88: 0 | C88: Salada | E88: ='Ementas Geral 1ºP 21-22'!E88 -> Alface, milho e beterraba | F88: ='Ementas Geral 1ºP 21-22'!F88 -> 177.4016 | G88: ='Ementas Geral 1ºP 21-22'!G88 -> 42.4 | H88: ='Ementas Geral 1ºP 21-22'!H88 -> 0.3 | I88: ='Ementas Geral 1ºP 21-22'!I88 -> 0 | J88: ='Ementas Geral 1ºP 21-22'!J88 -> 4.7 | K88: ='Ementas Geral 1ºP 21-22'!K88 -> 3.1 | L88: ='Ementas Geral 1ºP 21-22'!L88 -> 0.1 | M88: ='Ementas Geral 1ºP 21-22'!M88 -> 2.8 | N88: FT
B89: 0 | C89: =$C$10 -> Sobremesa | E89: Fruta da época (min. 3 variedades) / Gelatina(12) | F89: 157.9 / 251.0 | G89: 37.7 / 60.0 | H89: 0.3 / 0.0 | I89: 0.0 / 0.0 | J89: 7.8 / 15.0 | K89: 0.4 / 0.0 | L89: 0.0 / 0.0 | M89: 7.7 / 15.0 | N89: FT
B90: 0 | C90: =$C$11 -> Pão | E90: Pão de mistura(1) | F90: Pode ser solicitada a Ficha Técnica do Pão aos funcionários.
B91: 0
B92: 0 | F92: VE (KJ) | G92: VE (Kcal) | H92: Lip. (g) | I92: AG Sat. (g) | J92: HC (g) | K92: Prot. (g) | L92: Sal (g) | M92: Açúcar (g)
A93: Quarta-Feira | B93: 0 | C93: =$C$7 -> Sopa | E93: Creme de cenoura com couve-flor | F93: =G93*4.184 -> 323.0048 | G93: 77.2 | H93: 1.1 | I93: 0.1 | J93: 12.3 | K93: 2.6 | L93: 0.21 | M93: 5.2 | N93: FT
B94: 0 | C94: Prato | E94: Ervilhas estufadas com cenoura e cogumelos(12), Arroz branco | F94: =G94*4.184 -> 1301.6424 | G94: 311.1 | H94: 6.1 | I94: 1 | J94: 45.1 | K94: 12.1 | L94: 0.37 | M94: 3.6 | N94: V | O94: A
B95: 0 | C95: Salada | E95: ='Ementas Geral 1ºP 21-22'!E95 -> Cenoura, couve roxa e pepino | F95: ='Ementas Geral 1ºP 21-22'!F95 -> 120.9176 | G95: ='Ementas Geral 1ºP 21-22'!G95 -> 28.9 | H95: ='Ementas Geral 1ºP 21-22'!H95 -> 0.1 | I95: ='Ementas Geral 1ºP 21-22'!I95 -> 0 | J95: ='Ementas Geral 1ºP 21-22'!J95 -> 4 | K95: ='Ementas Geral 1ºP 21-22'!K95 -> 1.6 | L95: ='Ementas Geral 1ºP 21-22'!L95 -> 0.06 | M95: ='Ementas Geral 1ºP 21-22'!M95 -> 3.5 | N95: FT
B96: 0 | C96: =$C$10 -> Sobremesa | E96: ='Ementas Geral 1ºP 21-22'!E96 -> Fruta da época (min. 3 variedades) | F96: ='Ementas Geral 1ºP 21-22'!F96 -> 157.90842 | G96: ='Ementas Geral 1ºP 21-22'!G96 -> 37.741018 | H96: ='Ementas Geral 1ºP 21-22'!H96 -> 0.2639232 | I96: ='Ementas Geral 1ºP 21-22'!I96 -> 0.045504 | J96: ='Ementas Geral 1ºP 21-22'!J96 -> 7.7933184 | K96: ='Ementas Geral 1ºP 21-22'!K96 -> 0.4034688 | L96: ='Ementas Geral 1ºP 21-22'!L96 -> 0.01281696 | M96: ='Ementas Geral 1ºP 21-22'!M96 -> 7.720512 | N96: FT
B97: 0 | C97: =$C$11 -> Pão | E97: Pão de mistura(1) | F97: Pode ser solicitada a Ficha Técnica do Pão aos funcionários.
B98: 0
B99: 0 | F99: VE (KJ) | G99: VE (Kcal) | H99: Lip. (g) | I99: AG Sat. (g) | J99: HC (g) | K99: Prot. (g) | L99: Sal (g) | M99: Açúcar (g)
A100: Quinta-Feira | B100: 0 | C100: =$C$7 -> Sopa | E100: Feijão branco com couve portuguesa | F100: =G100*4.184 -> 466.0976 | G100: 111.4 | H100: 1.5 | I100: 0.2 | J100: 16.5 | K100: 5 | L100: 0.16 | M100: 5.5 | N100: FT
B101: 0 | C101: Prato | E101: Soja à Gomes de Sá(1)(6)(8)(11)(13) | F101: =G101*4.184 -> 1373.1888 | G101: 328.2 | H101: 7.7 | I101: 0.9 | J101: 32.1 | K101: 27.6 | L101: 0.31 | M101: 1.6 | N101: FT
B102: 0 | C102: Salada | E102: ='Ementas Geral 1ºP 21-22'!E102 -> Alface, beterraba e milho | F102: ='Ementas Geral 1ºP 21-22'!F102 -> 177.4016 | G102: ='Ementas Geral 1ºP 21-22'!G102 -> 42.4 | H102: ='Ementas Geral 1ºP 21-22'!H102 -> 0.3 | I102: ='Ementas Geral 1ºP 21-22'!I102 -> 0 | J102: ='Ementas Geral 1ºP 21-22'!J102 -> 4.7 | K102: ='Ementas Geral 1ºP 21-22'!K102 -> 3.1 | L102: ='Ementas Geral 1ºP 21-22'!L102 -> 0.1 | M102: ='Ementas Geral 1ºP 21-22'!M102 -> 2.8 | N102: FT
...

Sheet FTSOPAS
D2: FICHAS TÉCNICAS SOPAS
E4: Capitações (g/ ml)
A6: Nº | B6: Nome | D6: Ingredientes | E6: JI | F6: 1.º CEB | G6: 2.º e 3.º CEB | H6: Sec. | J6: Preparação/Confeção
A8: S1 | B8: Macedónia de legumes | D8: Batata p/ sopa / Flocos de batata p/ sopa | E8: 40.0/ 8.0 | F8: 40.0/ 8.0 | G8: 50.0/ 10.0 | H8: 50.0/ 10.0 | J8: Lavar, descascar e cortar a batata, a cebola, a cenoura e o alho e colocar a cozer metade da quantidade de cenoura, metade da quantidade de ervilha e os restantes ingredientes. Depois de cozido triturar e adicionar o feijão-verde, a restante quantidade de ervilha e a restante quantidade de cenoura previamente cortada em porções pequenas. Deixar cozer, retificar o tempero e no final adicionar o azeite. Nota: A utilização de flocos de batata destina-se somente à preparação das sopas da ementa mediterrânica, devendo para as ementas vegetarianas ser utilizada batata em natureza.
D9: Cenoura p/ sopa não base | E9: 60 | F9: 60 | G9: 80 | H9: 80
D10: Cebola p/ sopa não base | E10: 40 | F10: 40 | G10: 50 | H10: 50
D11: Alho seco | E11: 1.2 | F11: 1.5 | G11: 2 | H11: 2
D12: Feijão verde p/ sopa não base | E12: 40 | F12: 40 | G12: 60 | H12: 60
D13: Ervilhas p/ sopa não base | E13: 20 | F13: 20 | G13: 20 | H13: 20
D14: Azeite p/ sopa | E14: 1 | F14: 1 | G14: 1 | H14: 1
D15: Sal | E15: 0.1 | F15: 0.1 | G15: 0.2 | H15: 0.2
A31: Nº | B31: Nome | D31: Ingredientes | E31: JI | F31: 1.º CEB | G31: 2.º e 3.º CEB | H31: Sec. | J31: Preparação/Confeção
A33: S2 | B33: Creme de abóbora com: - ervilhas; ou - alface; ou - brócolos | D33: Batata p/ sopa / Flocos de batata p/ sopa | E33: 40.0/ 8.0 | F33: 40.0/ 8.0 | G33: 50.0/ 10.0 | H33: 50.0/ 10.0 | J33: Lavar e descascar a batata, a abóbora, o alho e a cebola. Numa panela colocar a água com a batata, a abóbora, o alho e a cebola. Deixar cozer. Triturar a base da sopa. Juntar as ervilhas / alface / brócolos e deixar cozer. No final da cozedura, voltar a triturar, retificar o tempero e adicionar o azeite. Nota: A utilização de flocos de batata destina-se somente à preparação das sopas da ementa mediterrânica, devendo para as ementas vegetarianas ser utilizada batata em natureza.
D34: Abóbora p/ sopa base | E34: 60 | F34: 60 | G34: 60 | H34: 60
D35: Cebola p/ sopa não base | E35: 40 | F35: 40 | G35: 50 | H35: 50
D36: Alho seco | E36: 1.2 | F36: 1.5 | G36: 2 | H36: 2
D37: Azeite p/ sopa | E37: 1 | F37: 1 | G37: 1 | H37: 1
D38: Sal | E38: 0.1 | F38: 0.1 | G38: 0.2 | H38: 0.2
D40: Se:
D41: Ervilhas p/ sopa não base | E41: 20 | F41: 20 | G41: 20 | H41: 20
D42: Alface p/ sopa não base | E42: 30 | F42: 30 | G42: 50 | H42: 50
D43: Brócolos p/ sopa não base | E43: 60 | F43: 60 | G43: 100 | H43: 100
A56: Nº | B56: Nome | D56: Ingredientes | E56: JI | F56: 1.º CEB | G56: 2.º e 3.º CEB | H56: Sec. | J56: Preparação/Confeção
A58: S3 | B58: Couve branca com cenoura ripada | D58: Batata p/ sopa / Flocos de batata p/ sopa | E58: 40.0/ 8.0 | F58: 40.0/ 8.0 | G58: 50.0/ 10.0 | H58: 50.0/ 10.0 | J58: Lavar, descascar e cortar metade da quantidade de cenoura, a batata, a cebola e o alho. Colocar tudo numa panela e deixar cozer. Depois de cozido reduzir tudo a puré e adicionar a restante cenoura (ripada), a couve branca (em juliana) e deixar cozer. Retificar o tempero e no final adicionar o azeite. Nota: A utilização de flocos de batata destina-se somente à preparação das sopas da ementa mediterrânica, devendo para as ementas vegetarianas ser utilizada batata em natureza.
D59: Cenoura p/ sopa não base | E59: 60 | F59: 60 | G59: 80 | H59: 80
D60: Cebola p/ sopa não base | E60: 40 | F60: 40 | G60: 50 | H60: 50
D61: Alho seco | E61: 1.2 | F61: 1.5 | G61: 2 | H61: 2
D62: Couve branca p/ sopa não base | E62: 80 | F62: 80 | G62: 100 | H62: 100
D63: Azeite p/ sopa | E63: 1 | F63: 1 | G63: 1 | H63: 1
D64: Sal | E64: 0.1 | F64: 0.1 | G64: 0.2 | H64: 0.2
A81: Nº | B81: Nome | D81: Ingredientes | E81: JI | F81: 1.º CEB | G81: 2.º e 3.º CEB | H81: Sec. | J81: Preparação/Confeção
A83: S4 | B83: Nabo com cenoura e: - Couve-lombarda; ou - Couve branca | D83: Batata p/ sopa / Flocos de batata p/ sopa | E83: 40.0/ 8.0 | F83: 40.0/ 8.0 | G83: 50.0/ 10.0 | H83: 50.0/ 10.0 | J83: Lavar, descascar e cortar a batata, a cenoura, a cebola, o nabo e o alho e preparar a couve-lombarda / couve branca cortada em juliana. Cozer a batata, a cebola, o nabo, metade da quantidade de cenoura e o alho em água. Depois de cozido reduzir tudo a puré e acrescentar a couve-lombarda / couve branca e a restante cenoura aos cubos e deixar cozer. Retificar o tempero e juntar o azeite no final da cozedura. Nota: A utilização de flocos de batata destina-se somente à preparação das sopas da ementa mediterrânica, devendo para as ementas vegetarianas ser utilizada batata em natureza.
D84: Cenoura p/ sopa não base | E84: 60 | F84: 60 | G84: 80 | H84: 80
D85: Cebola p/ sopa não base | E85: 40 | F85: 40 | G85: 50 | H85: 50
D86: Alho seco | E86: 1.2 | F86: 1.5 | G86: 2 | H86: 2
D87: Nabo p/ sopa não base | E87: 80 | F87: 80 | G87: 120 | H87: 120
D88: Azeite p/ sopa | E88: 1 | F88: 1 | G88: 1 | H88: 1
D89: Sal | E89: 0.1 | F89: 0.1 | G89: 0.2 | H89: 0.2
D91: Se:
D92: Couve-lombarda p/ sopa não base | E92: 60 | F92: 60 | G92: 90 | H92: 90
D93: Couve branca p/ sopa não base | E93: 80 | F93: 80 | G93: 100 | H93: 100
A106: Nº | B106: Nome | D106: Ingredientes | E106: JI | F106: 1.º CEB | G106: 2.º e 3.º CEB | H106: Sec. | J106: Preparação/Confeção
A108: S5 | B108: Feijão com: -Couve-lombarda; ou - Couve portuguesa; ou - Couve-branca; ou - Nabiça; ou - Feijão-verde | D108: Batata p/ sopa / Flocos de batata p/ sopa | E108: 40.0/ 8.0 | F108: 40.0/ 8.0 | G108: 50.0/ 10.0 | H108: 50.0/ 10.0 | J108: Colocar o feijão a demolhar de véspera. Lavar, descascar e cortar a batata, a cebola, o alho e metade da quantidade de cenoura e cozer em água. Depois de cozidos, adicionar metade do feijão (previamente cozido) e a água de o cozer e triturar o preparado. Juntar a couve-lombarda / portuguesa / branca (cortada em juliana) /nabiças/ feijão-verde, a restante quantidade de cenoura (cortada aos cubos) e deixar cozer. Antes do final da cozedura, adicionar o resto do feijão. Retificar o tempero e juntar o azeite no final da cozedura. Nota: A utilização de flocos de batata destina-se somente à preparação das sopas da ementa mediterrânica, devendo para as ementas vegetarianas ser utilizada batata em natureza.
D109: Cenoura p/ sopa não base | E109: 60 | F109: 60 | G109: 80 | H109: 80
D110: Cebola p/ sopa não base | E110: 40 | F110: 40 | G110: 50 | H110: 50
D111: Alho seco | E111: 1.2 | F111: 1.5 | G111: 2 | H111: 2
D112: Feijão seco p/ sopa base | E112: 10 | F112: 10 | G112: 10 | H112: 10
D113: Azeite p/ sopa | E113: 1 | F113: 1 | G113: 1 | H113: 1
D114: Sal | E114: 0.1 | F114: 0.1 | G114: 0.2 | H114: 0.2
D116: Se:
D117: Couve-lombarda p/ sopa não base | E117: 60 | F117: 60 | G117: 90 | H117: 90
D118: Couve portuguesa p/ sopa não base | E118: 80 | F118: 80 | G118: 110 | H118: 110
D119: Couve-branca p/ sopa não base | E119: 80 | F119: 80 | G119: 100 | H119: 100
D120: Nabiça | E120: 100 | F120: 100 | G120: 120 | H120: 120
D121: Feijão-verde p/ sopa não base | E121: 40 | F121: 40 | G121: 60 | H121: 60
A131: Nº | B131: Nome | D131: Ingredientes | E131: JI | F131: 1.º CEB | G131: 2.º e 3.º CEB | H131: Sec. | J131: Preparação/Confeção
A133: S6 | B133: Lentilhas e couve portuguesa | D133: Batata p/ sopa / Flocos de batata p/ sopa | E133: 40.0/ 8.0 | F133: 40.0/ 8.0 | G133: 50.0/ 10.0 | H133: 50.0/ 10.0 | J133: Demolhar as lentilhas de véspera. Lavar, descascar e cortar os ingredientes (batata, cenoura, cebola, alho) e cozer em água juntamente com a lentilhas. Após cozer, triturar o preparado e adicionar a couve portuguesa (cortada em juliana). No fim da cozedura, retificar o tempero e acrescentar o azeite. Nota: A utilização de flocos de batata destina-se somente à preparação das sopas da ementa mediterrânica, devendo para as ementas vegetarianas ser utilizada batata em natureza.
D134: Cenoura p/ sopa não base | E134: 60 | F134: 60 | G134: 80 | H134: 80
D135: Cebola p/ sopa não base | E135: 40 | F135: 40 | G135: 50 | H135: 50
D136: Alho seco | E136: 1.2 | F136: 1.5 | G136: 2 | H136: 2
D137: Lentilhas p/ sopa base | E137: 10 | F137: 10 | G137: 10 | H137: 10
D138: Couve portuguesa p/ sopa não base | E138: 80 | F138: 80 | G138: 110 | H138: 110
D139: Azeite p/ sopa | E139: 1 | F139: 1 | G139: 1 | H139: 1
D140: Sal | E140: 0.1 | F140: 0.1 | G140: 0.2 | H140: 0.2
A156: Nº | B156: Nome | D156: Ingredientes | E156: JI | F156: 1.º CEB | G156: 2.º e 3.º CEB | H156: Sec. | J156: Preparação/Confeção
A158: S7 | B158: Feijão branco com: - Couve-lombarda; ou - Couve portuguesa; ou - Espinafres | D158: Batata p/ sopa / Flocos de batata p/ sopa | E158: 40.0/ 8.0 | F158: 40.0/ 8.0 | G158: 50.0/ 10.0 | H158: 50.0/ 10.0 | J158: Demolhar o feijão de véspera. No dia, lavar, descascar e cortar a batata, metade da cenoura, a cebola e o alho e levar a cozer em água. Adicionar cerca de metade do feijão (previamente cozido) ao preparado anterior, assim como a água da sua cozedura. Triturar o preparado e juntar a couve-lombarda / portuguesa / espinafre (previamente cortada e lavada) e o resto da cenoura até cozer. Antes do final da cozedura, adicionar o restante feijão e deixar apurar. No final reificar o tempero e acrescentar o azeite. Nota: A utilização de flocos de batata destina-se somente à preparação das sopas da ementa mediterrânica, devendo para as ementas vegetarianas ser utilizada batata em natureza.
D159: Cenoura p/ sopa não base | E159: 60 | F159: 60 | G159: 80 | H159: 80
D160: Cebola p/ sopa não base | E160: 40 | F160: 40 | G160: 50 | H160: 50
D161: Alho seco | E161: 1.2 | F161: 1.5 | G161: 2 | H161: 2
D162: Feijão seco p/ sopa base | E162: 10 | F162: 10 | G162: 10 | H162: 10
D163: Azeite p/ sopa | E163: 1 | F163: 1 | G163: 1 | H163: 1
D164: Sal | E164: 0.1 | F164: 0.1 | G164: 0.2 | H164: 0.2
D166: Se:
D167: Couve-lombarda p/ sopa não base | E167: 60 | F167: 60 | G167: 90 | H167: 90
D168: Couve portuguesa p/ sopa não base | E168: 80 | F168: 80 | G168: 110 | H168: 110
D169: Espinafres p/ sopa não base | E169: 60 | F169: 60 | G169: 80 | H169: 80
A181: Nº | B181: Nome | D181: Ingredientes | E181: JI | F181: 1.º CEB | G181: 2.º e 3.º CEB | H181: Sec. | J181: Preparação/Confeção
A183: S8 | B183: Caldo-verde | D183: Batata p/ sopa / Flocos de batata p/ sopa | E183: 40.0/ 8.0 | F183: 40.0/ 8.0 | G183: 50.0/ 10.0 | H183: 50.0/ 10.0 | J183: Lavar e descascar a batata, o alho, a curgete e a cebola. Cozer em água. Depois de cozido, triturar os legumes. Juntar o caldo-verde e deixar cozer. No final da cozedura adicionar o azeite e retificar o tempero. Servir com chouriço previamente cozido. *Não adicionar chouriço na sopa da ementa vegetariana. Nota: A utilização de flocos de batata destina-se somente à preparação das sopas da ementa mediterrânica, devendo para as ementas vegetarianas ser utilizada batata em natureza.
D184: Cebola p/ sopa não base | E184: 40 | F184: 40 | G184: 50 | H184: 50
D185: Alho seco | E185: 1.2 | F185: 1.5 | G185: 2 | H185: 2
D186: Curgete p/ sopa não base | E186: 40 | F186: 40 | G186: 60 | H186: 60
D187: Caldo verde p/ sopa não base | E187: 100 | F187: 100 | G187: 120 | H187: 120
D188: Chouriço* | E188: - | F188: 10 | G188: 10 | H188: 10
D189: Azeite p/ sopa | E189: 1 | F189: 1 | G189: 1 | H189: 1
D190: Sal | E190: 0.1 | F190: 0.1 | G190: 0.2 | H190: 0.2
A206: Nº | B206: Nome | D206: Ingredientes | E206: JI | F206: 1.º CEB | G206: 2.º e 3.º CEB | H206: Sec. | J206: Preparação/Confeção
A208: S9 | B208: Abóbora com: - Brócolos; ou - Couve-branca; ou - Feijão-verde; ou - Espinafres | D208: Abóbora p/ sopa base | E208: 60 | F208: 60 | G208: 60 | H208: 60 | J208: Lavar, descascar e cortar a abóbora, a cenoura, a curgete, a cebola e o alho e cozer em água. Depois de cozido reduzir tudo a puré e acrescentar os brócolos / a couve-branca (em juliana) / o feijão-verde / os espinafres e deixar cozer. Retificar o tempero e adicionar o azeite no final da cozedura. Nota: A utilização de flocos de batata destina-se somente à preparação das sopas da ementa mediterrânica, devendo para as ementas vegetarianas ser utilizada batata em natureza.
D209: Cenoura p/ sopa não base | E209: 60 | F209: 60 | G209: 80 | H209: 80
D210: Cebola p/ sopa não base | E210: 40 | F210: 40 | G210: 50 | H210: 50
D211: Alho seco | E211: 1.2 | F211: 1.5 | G211: 2 | H211: 2
D212: Curgete p/ sopa base | E212: 60 | F212: 60 | G212: 80 | H212: 80
D213: Azeite p/ sopa | E213: 1 | F213: 1 | G213: 1 | H213: 1
D214: Sal | E214: 0.1 | F214: 0.1 | G214: 0.2 | H214: 0.2
D216: Se:
D217: Brócolos p/ sopa não base | E217: 60 | F217: 60 | G217: 100 | H217: 100
D218: Couve-branca p/ sopa não base | E218: 80 | F218: 80 | G218: 100 | H218: 100
D219: Feijão-verde p/ sopa não base | E219: 40 | F219: 40 | G219: 60 | H219: 60
D220: Espinafres p/ sopa não base | E220: 60 | F220: 60 | G220: 80 | H220: 80
A231: Nº | B231: Nome | D231: Ingredientes | E231: JI | F231: 1.º CEB | G231: 2.º e 3.º CEB | H231: Sec. | J231: Preparação/Confeção
A233: S10 | B233: Creme de cenoura com: - Brócolos; ou - Couve-flor; ou - Couve-branca | D233: Batata p/ sopa / Flocos de batata p/ sopa | E233: 40.0/ 8.0 | F233: 40.0/ 8.0 | G233: 50.0/ 10.0 | H233: 50.0/ 10.0 | J233: Descascar, lavar e cortar em pedaços a batata, a cenoura, a cebola, o alho. Cozer tudo em água. Após cozido, reduzir a puré. Posteriormente colocar a couve-flor / os brócolos / a couve branca (em juliana), previamente lavada e cortada e deixar cozer. Retificar o tempero e juntar o azeite no final da cozedura. Nota: A utilização de flocos de batata destina-se somente à preparação das sopas da ementa mediterrânica, devendo para as ementas vegetarianas ser utilizada batata em natureza.
...

Sheet FTPEIXE
D3: FICHAS TÉCNICAS PRATOS PEIXE
E5: Capitações (g/ ml)
A7: Nº | B7: Nome | D7: Ingredientes | E7: JI | F7: 1.º CEB | G7: 2.º e 3.º CEB | H7: Sec. | J7: Preparação/Confeção
A9: P1 | B9: Filetes de pescada dourados / panados no forno | D9: Peixe em filete/lombo | E9: 85 | F9: 100 | G9: 130 | H9: 140 | J9: Após descongelar os filetes em temperatura de refrigeração, temperar com sal, alho, sumo de limão, orégãos, de preferência de véspera. Se dourados: No dia panar os filetes de pescada com farinha e ovo e fritar em óleo. Se panados: No dia panar os filetes de pescada com farinha, ovo e posteriormente pão ralado e levar ao forno a confecionar.
D10: Sumo de limão | E10: q.b. | F10: q.b. | G10: q.b. | H10: q.b.
D11: Orégãos | E11: 0.1 | F11: 0.1 | G11: 0.1 | H11: 0.1
D12: Alho seco | E12: 1.2 | F12: 1.5 | G12: 2 | H12: 2
D13: Sal p/ conduto | E13: 0.1 | F13: 0.1 | G13: 0.1 | H13: 0.1
D15: Se dourados:
D16: Farinha de trigo | E16: q.b. | F16: q.b. | G16: q.b. | H16: q.b.
D17: Ovo pasteurizado inteiro líquido | E17: 5 | F17: 5 | G17: 5 | H17: 5
D18: Óleo vegetal | E18: 3 | F18: 5 | G18: 7 | H18: 9
D20: Se panados:
D21: Farinha de trigo | E21: q.b. | F21: q.b. | G21: q.b. | H21: q.b.
D22: Ovo pasteurizado inteiro líquido | E22: 5 | F22: 5 | G22: 5 | H22: 5
D23: Pão ralado | E23: q.b. | F23: q.b. | G23: q.b. | H23: q.b.
A32: Nº | B32: Nome | D32: Ingredientes | E32: JI | F32: 1.º CEB | G32: 2.º e 3.º CEB | H32: Sec. | J32: Preparação/Confeção
A34: P2 | B34: Pescada/Palmeta/Solha dourada | D34: Peixe inteiro s/ cabeça | E34: 100 | F34: 105 | G34: 135 | H34: 145 | J34: De véspera, limpar, preparar e temperar o peixe com as ervas aromáticas, o sumo de limão, o alho e o sal. No dia, aquecer o óleo e passar o peixe por farinha e colocar no fritar em óleo. Retirar quando atingir a temperatura de confeção.
D35: Sumo de limão | E35: q.b. | F35: q.b. | G35: q.b. | H35: q.b.
D36: Orégãos | E36: 0.1 | F36: 0.1 | G36: 0.1 | H36: 0.1
D37: Alho seco | E37: 1.2 | F37: 1.5 | G37: 2 | H37: 2
D38: Salsa | E38: 0.8 | F38: 1.3 | G38: 1.3 | H38: 1.3
D39: Farinha de trigo | E39: q.b. | F39: q.b. | G39: q.b. | H39: q.b.
D40: Óleo vegetal | E40: 3 | F40: 5 | G40: 7 | H40: 9
D41: Sal p/ conduto | E41: 0.1 | F41: 0.1 | G41: 0.1 | H41: 0.1
A57: Nº | B57: Nome | D57: Ingredientes | E57: JI | F57: 1.º CEB | G57: 2.º e 3.º CEB | H57: Sec. | J57: Preparação/Confeção
A59: P3 | B59: Peixe gratinado (posta/filete) | D59: Peixe inteiro s/ cabeça | E59: 100 | F59: 105 | G59: 135 | H59: 145 | J59: Limpar, preparar, cortar às postas e temperar o peixe com sal, sumo de limão, alho e ervas aromáticas, de preferência de véspera. Num tabuleiro colocar o peixe, regar com o azeite e as restantes ervas aromáticas e alho e levar ao forno a gratinar. No final salpicar com a salsa, previamente picada, lavada e desinfetada.
D60: Peixe inteiro c/ cabeça | E60: 120 | F60: 130 | G60: 165 | H60: 175
D61: Peixe em filete/lombo | E61: 85 | F61: 100 | G61: 130 | H61: 140
D62: Sumo de limão | E62: q.b. | F62: q.b. | G62: q.b. | H62: q.b.
D63: Alho seco | E63: 1.2 | F63: 1.5 | G63: 2 | H63: 2
D64: Orégãos | E64: 0.1 | F64: 0.1 | G64: 0.1 | H64: 0.1
D65: Salsa | E65: 0.8 | F65: 1.3 | G65: 1.3 | H65: 1.3
D66: Azeite | E66: 2 | F66: 3 | G66: 4 | H66: 6
D67: Sal p/ conduto | E67: 0.1 | F67: 0.1 | G67: 0.1 | H67: 0.1
A82: Nº | B82: Nome | D82: Ingredientes | E82: JI | F82: 1.º CEB | G82: 2.º e 3.º CEB | H82: Sec. | J82: Preparação/Confeção
A84: P4 | B84: Meia desfeita de bacalhau | D84: Bacalhau migas (salgado seco) | E84: 40 | F84: 50 | G84: 60 | H84: 70 | J84: De véspera, demolhar o grão-de-bico. No dia cozer o grão-de-bico e as migas de bacalhau previamente demolhadas. Cortar o ovo em rodelas. Juntar o bacalhau, o ovo e o grão-de-bico. Picar o alho, a cebola e a salsa. Juntar parte do azeite e levar ao forno a reaquecer até atingir pelo menos 75ºC. Colocar os temperos (mistura de salsa, alho, cebola, vinagre e azeite) à parte.
D85: Grão -de-bico seco | E85: 20 | F85: 30 | G85: 40 | H85: 50
D86: Cebola | E86: 25 | F86: 25 | G86: 25 | H86: 25
D87: Ovo cozido pasteurizado | E87: 30 | F87: 35 | G87: 45 | H87: 50
D88: Salsa | E88: 0.8 | F88: 1.3 | G88: 1.3 | H88: 1.3
D89: Vinagre | E89: 0.5 | F89: 1 | G89: 2 | H89: 2
D90: Alho seco | E90: 1.2 | F90: 1.5 | G90: 2 | H90: 2
D91: Azeite p/ prato | E91: 3 | F91: 5 | G91: 7 | H91: 9
A107: Nº | B107: Nome | D107: Ingredientes | E107: JI | F107: 1.º CEB | G107: 2.º e 3.º CEB | H107: Sec. | J107: Preparação/Confeção
A109: P5 | B109: Peixe no forno/ assado | D109: Peixe inteiro s/ cabeça | E109: 100 | F109: 105 | G109: 135 | H109: 145 | J109: Lavar, preparar e temperar o peixe com sal, alho, sumo de limão e ervas aromáticas, de preferência de véspera. Colocar o peixe num tabuleiro previamente untado com um pouco de azeite e cebola às rodelas. Por cima do peixe regar com o tomate aos cubos ou triturado, salpicar com salsa e levar ao forno.
D110: Peixe inteiro c/ cabeça | E110: 120 | F110: 130 | G110: 165 | H110: 175
D111: Sumo de limão | E111: q.b. | F111: q.b. | G111: q.b. | H111: q.b.
D112: Orégãos | E112: 0.1 | F112: 0.1 | G112: 0.1 | H112: 0.1
D113: Alho seco | E113: 1.2 | F113: 1.5 | G113: 2 | H113: 2
D114: Salsa | E114: 0.8 | F114: 1.3 | G114: 1.3 | H114: 1.3
D115: Tomate | E115: 25 | F115: 25 | G115: 25 | H115: 25
D116: Cebola p/ assados | E116: 25 | F116: 25 | G116: 25 | H116: 25
D117: Azeite | E117: 2 | F117: 3 | G117: 4 | H117: 6
D118: Sal p/ conduto | E118: 0.1 | F118: 0.1 | G118: 0.1 | H118: 0.1
A132: Nº | B132: Nome | D132: Ingredientes | E132: JI | F132: 1.º CEB | G132: 2.º e 3.º CEB | H132: Sec. | J132: Preparação/Confeção
A134: P6 | B134: Salmão grelhado com molho de limão e ervas aromáticas | D134: Peixe inteiro s/ cabeça | E134: 100 | F134: 105 | G134: 135 | H134: 145 | J134: De véspera, limpar e preparar o peixe, temperá-lo com sal, salsa, alho picado, sumo de limão e coentros. No dia, grelhar em grelhador ou nas grelhas do forno convetor. Servir com uma rodela de limão.
D135: Sumo de limão | E135: q.b. | F135: q.b. | G135: q.b. | H135: q.b.
D136: Alho seco | E136: 1.2 | F136: 1.5 | G136: 2 | H136: 2
D137: Salsa | E137: 0.8 | F137: 1.3 | G137: 1.3 | H137: 1.3
D138: Coentros | E138: 0.7 | F138: 1.1 | G138: 1.1 | H138: 1.1
D139: Azeite | E139: 2 | F139: 3 | G139: 4 | H139: 6
D140: Sal p/ conduto | E140: 0.1 | F140: 0.1 | G140: 0.1 | H140: 0.1
A157: Nº | B157: Nome | D157: Ingredientes | E157: JI | F157: 1.º CEB | G157: 2.º e 3.º CEB | H157: Sec. | J157: Preparação/Confeção
A159: P7 | B159: Atum com ovo e feijão-frade (atum, ovo e feijão-frade) | D159: Feijão seco guarnição base | E159: 20 | F159: 30 | G159: 40 | H159: 50 | J159: De véspera, demolhar o feijão-frade. No dia cozer o feijão-frade em água e sal. Após cozido, colocar o feijão-frade num tabuleiro juntamente com o ovo picado. Escorrer o atum e juntar ao preparado anterior. Adicionar parte do azeite e levar ao forno a reaquecer até atingir pelo menos 75ºC. Salpicar com salsa previamente picada, lavada e desinfetada. Envolver o preparado e adicionar o restante azeite e o vinagre. Servir com cebola picada (opcional).
D160: Ovo cozido pasteurizado | E160: 30 | F160: 35 | G160: 45 | H160: 50
D161: Atum em Conserva | E161: 75 | F161: 80 | G161: 90 | H161: 100
D162: Salsa | E162: 0.8 | F162: 1.3 | G162: 1.3 | H162: 1.3
D163: Cebola | E163: 25 | F163: 25 | G163: 25 | H163: 25
D164: Vinagre | E164: 0.5 | F164: 1 | G164: 2 | H164: 2
D165: Azeite p/ prato | E165: 3 | F165: 5 | G165: 7 | H165: 9
D166: Sal p/ prato | E166: 0.2 | F166: 0.2 | G166: 0.2 | H166: 0.2
A182: Nº | B182: Nome | D182: Ingredientes | E182: JI | F182: 1.º CEB | G182: 2.º e 3.º CEB | H182: Sec. | J182: Preparação/Confeção
A184: P8 | B184: Peixe estufado | D184: Peixe inteiro s/ cabeça | E184: 100 | F184: 105 | G184: 135 | H184: 145 | J184: Após limpar e preparar o peixe, temperar com sal, sumo de limão e orégãos. Estufar a cebola, o alho, o louro, o tomate cortado aos pedaços e o azeite, no final triturar tudo. Colocar o peixe em tabuleiro, regar com o preparado anterior e levar ao forno convetor OU colocar todos os ingredientes num tacho e levar ao lume, no final salpicar com salsa previamente lavada e desinfetada.
D185: Peixe inteiro c/ cabeça | E185: 120 | F185: 130 | G185: 165 | H185: 175
D186: Sumo de limão | E186: q.b. | F186: q.b. | G186: q.b. | H186: q.b.
D187: Orégãos | E187: 0.1 | F187: 0.1 | G187: 0.1 | H187: 0.1
D188: Cebola p/ estufados | E188: 25 | F188: 25 | G188: 25 | H188: 25
D189: Alho seco | E189: 1.2 | F189: 1.5 | G189: 2 | H189: 2
D190: Louro | E190: 0.1 | F190: 0.1 | G190: 0.1 | H190: 0.1
D191: Tomate p/ estufados | E191: 25 | F191: 25 | G191: 25 | H191: 25
D192: Salsa | E192: 0.8 | F192: 1.3 | G192: 1.3 | H192: 1.3
D193: Azeite | E193: 2 | F193: 3 | G193: 4 | H193: 6
D194: Sal p/ conduto | E194: 0.1 | F194: 0.1 | G194: 0.1 | H194: 0.1
A207: Nº | B207: Nome | D207: Ingredientes | E207: JI | F207: 1.º CEB | G207: 2.º e 3.º CEB | H207: Sec. | J207: Preparação/Confeção
A209: P9 | B209: Feijoada de lulas | D209: Feijão seco guarnição base | E209: 20 | F209: 30 | G209: 40 | H209: 50 | J209: Demolhar o feijão de véspera. No dia cozer o feijão em água e sal. À parte cozer as lulas com o louro, o alho esmagado e o sal. Estufar as cenouras, previamente cortadas às rodelas, a cebola, o azeite, o tomate e o pimento. Posteriormente adicionar as lulas, cortadas aos pedaços, o feijão e um pouco da água de cozer as lulas se necessário. Polvilhar com salsa.
D210: Lulas p/ estufado | E210: 125 | F210: 130 | G210: 170 | H210: 180
D211: Louro | E211: 0.1 | F211: 0.1 | G211: 0.1 | H211: 0.1
D212: Alho seco | E212: 1.2 | F212: 1.5 | G212: 2 | H212: 2
D213: Cenoura p/ estufados | E213: 50 | F213: 50 | G213: 80 | H213: 80
D214: Cebola p/ estufados | E214: 25 | F214: 25 | G214: 25 | H214: 25
D215: Tomate p/ estufados | E215: 25 | F215: 25 | G215: 25 | H215: 25
D216: Pimento | E216: 15 | F216: 15 | G216: 40 | H216: 40
D217: Salsa | E217: 0.8 | F217: 1.3 | G217: 1.3 | H217: 1.3
D218: Azeite p/ prato | E218: 3 | F218: 5 | G218: 7 | H218: 9
D219: Sal p/ prato | E219: 0.2 | F219: 0.2 | G219: 0.2 | H219: 0.2
A232: Nº | B232: Nome | D232: Ingredientes | E232: JI | F232: 1.º CEB | G232: 2.º e 3.º CEB | H232: Sec. | J232: Preparação/Confeção
A234: P10 | B234: Bacalhau com broa (c/ ovo e batatas) | D234: Bacalhau migas (salgado seco) | E234: 40 | F234: 50 | G234: 60 | H234: 70 | J234: Demolhar as migas de bacalhau. Triturar a broa juntamente com a salsa e cortar a couve-galega às tiras grossas. Cozer a couve em água e sal ou a vapor. Estufar a cebola, o azeite, o alho picado e a folha de louro. Juntar o bacalhau e misturar com as tiras de couve. Descascar as batatas, cortar em rodelas finas e cozer de preferência a vapor. Dispor num tabuleiro as batatas, o preparado de bacalhau, envolvido com o ovo cozido pasteurizado e picado, e por cima polvilhar com a broa de milho previamente triturada. Regar com azeite e levar ao forno.
D235: Broa de milho | E235: 10 | F235: 10 | G235: 20 | H235: 20
D236: Salsa | E236: 0.8 | F236: 1.3 | G236: 1.3 | H236: 1.3
...

Sheet FTPRATOS CARNE
D3: FICHAS TÉCNICAS PRATOS CARNE
E5: Capitações (g/ ml)
A7: Nº | B7: Nome | D7: Ingredientes | E7: JI | F7: 1.º CEB | G7: 2.º e 3.º CEB | H7: Sec. | J7: Preparação/Confeção
A9: C1 | B9: Bife de frango/porco de tomatada | D9: Bife de frango Bife de porco | E9: 85.0 90.0 | F9: 90.0 100.0 | G9: 120.0 130.0 | H9: 130.0 140.0 | J9: Cortar os bifes de frango/porco e temperar com sal, alho esmagado, alecrim e orégãos. Estufar a cenoura cortada às rodelas, o tomate cortado aos pedaços e a cebola cortada às meias-luas. Adicionar os bifes de frango/porco ao estufado e levar ao lume anterior ou dispô-los em tabuleiros, regar com o estufado e levar ao forno convetor.
D10: Cenoura | E10: 50 | F10: 50 | G10: 80 | H10: 80
D11: Tomate p/ estufados | E11: 25 | F11: 25 | G11: 25 | H11: 25
D12: Cebola p/ estufados | E12: 25 | F12: 25 | G12: 25 | H12: 25
D13: Azeite | E13: 2 | F13: 3 | G13: 4 | H13: 6
D14: Sal p/ conduto | E14: 0.1 | F14: 0.1 | G14: 0.1 | H14: 0.1
D15: Alho seco | E15: 1.2 | F15: 1.5 | G15: 2 | H15: 2
D16: Alecrim | E16: 0.1 | F16: 0.1 | G16: 0.1 | H16: 0.1
D17: Orégãos | E17: 0.1 | F17: 0.1 | G17: 0.1 | H17: 0.1
A32: Nº | B32: Nome | D32: Ingredientes | E32: JI | F32: 1.º CEB | G32: 2.º e 3.º CEB | H32: Sec. | J32: Preparação/Confeção
A34: C2 | B34: Rancho (porco e vaca) | D34: Grão de bico | E34: 20 | F34: 30 | G34: 40 | H34: 50 | J34: De véspera colocar o grão-de-bico a demolhar. Cortar as carnes aos cubos e temperar com sumo de limão, louro e sal. No dia, preparar a cenoura aos cubos e a couve-lombarda em gomos. Cozer o grão-de-bico em água e sal. Estufar as carnes, com a cenoura, a couve-lombarda, azeite, cebola picada, alho, louro e tomate. Num tacho à parte cozer a massa. Após cozedura do estufado acrescentar ao preparado o grão-de-bico, a água onde cozeu o grão-de-bico, a massa e chouriço, previamente cozido e cortado às rodelas, e deixar apurar.
D35: Carne de vaca p/ feijoada/rancho | E35: 30 | F35: 40 | G35: 50 | H35: 65
D36: Carne de porco p/ feijoada/rancho | E36: 30 | F36: 40 | G36: 50 | H36: 65
D37: Couve-lombarda | E37: 25 | F37: 35 | G37: 45 | H37: 55
D38: Massa | E38: 10 | F38: 15 | G38: 20 | H38: 30
D39: Cenoura | E39: 25 | F39: 25 | G39: 40 | H39: 40
D40: Tomate p/ estufados | E40: 25 | F40: 25 | G40: 25 | H40: 25
D41: Cebola p/ estufados | E41: 25 | F41: 25 | G41: 25 | H41: 25
D42: Chouriço de carne | E42: 0 | F42: 10 | G42: 10 | H42: 10
D43: Azeite p/ prato | E43: 3 | F43: 5 | G43: 7 | H43: 9
D44: Sal p/ prato | E44: 0.2 | F44: 0.2 | G44: 0.2 | H44: 0.2
D45: Sumo de limão | E45: q.b. | F45: q.b. | G45: q.b. | H45: q.b.
D46: Alho seco | E46: 1.2 | F46: 1.5 | G46: 2 | H46: 2
D47: Louro | E47: 0.1 | F47: 0.1 | G47: 0.1 | H47: 0.1
A57: Nº | B57: Nome | D57: Ingredientes | E57: JI | F57: 1.º CEB | G57: 2.º e 3.º CEB | H57: Sec. | J57: Preparação/Confeção
A59: C3 | B59: Carne à Bolonhesa | D59: Carne de vaca picada | E59: 85 | F59: 90 | G59: 120 | H59: 130 | J59: Lavar e picar a cebola, o alho e a salsa e o tomate. Estufar os ingredientes referidos com azeite. Adicionar a carne picada, os orégãos e parte do sal. Levar a lume brando o preparado até o fim a cozedura. No final retificar o tempero.
D60: Tomate p/ estufados | E60: 25 | F60: 25 | G60: 25 | H60: 25
D61: Cebola p/ estufados | E61: 25 | F61: 25 | G61: 25 | H61: 25
D62: Azeite | E62: 2 | F62: 3 | G62: 4 | H62: 6
D63: Sal p/ conduto | E63: 0.1 | F63: 0.1 | G63: 0.1 | H63: 0.1
D64: Salsa | E64: 0.1 | F64: 0.1 | G64: 0.1 | H64: 0.1
D65: Alho seco | E65: 1.2 | F65: 1.5 | G65: 2 | H65: 2
D66: Orégãos | E66: 0.1 | F66: 0.1 | G66: 0.1 | H66: 0.1
A82: Nº | B82: Nome | D82: Ingredientes | E82: JI | F82: 1.º CEB | G82: 2.º e 3.º CEB | H82: Sec. | J82: Preparação/Confeção
A84: C4 | B84: Perna de peru estufada | D84: Perna de peru | E84: 115 | F84: 120 | G84: 160 | H84: 170 | J84: De véspera limpar e cortar a carne em peças e temperar com sal, sumo de limão, alho orégãos e alecrim. No dia, lavar e picar a cebola, o alho, a salsa e cortar o tomate em pedaços pequenos. Estufar os ingredientes com azeite e adicionar a carne ao preparado, em lume médio e deixar cozer até final da cozedura.
D85: Tomate p/ estufados | E85: 25 | F85: 25 | G85: 25 | H85: 25
D86: Cebola p/ estufados | E86: 25 | F86: 25 | G86: 25 | H86: 25
D87: Azeite | E87: 2 | F87: 3 | G87: 4 | H87: 6
D88: Sal p/ conduto | E88: 0.1 | F88: 0.1 | G88: 0.1 | H88: 0.1
D89: Salsa | E89: 0.1 | F89: 0.1 | G89: 0.1 | H89: 0.1
D90: Sumo de limão | E90: q.b. | F90: q.b. | G90: q.b. | H90: q.b.
D91: Alho seco | E91: 1.2 | F91: 1.5 | G91: 2 | H91: 2
D92: Alecrim | E92: 0.1 | F92: 0.1 | G92: 0.1 | H92: 0.1
D93: Orégãos | E93: 0.1 | F93: 0.1 | G93: 0.1 | H93: 0.1
A107: Nº | B107: Nome | D107: Ingredientes | E107: JI | F107: 1.º CEB | G107: 2.º e 3.º CEB | H107: Sec. | J107: Preparação/Confeção
A109: C5 | B109: Tirinhas de porco estufadas com ervilhas e cenoura | D109: Tirinhas de porco | E109: 90 | F109: 100 | G109: 130 | H109: 140 | J109: Lavar e descascar a cebola, a cenoura e o alho, picar tudo e levar ao lume a estufar após a adição de azeite. Temperar a carne, depois de cortada, com sal, sumo de limão, alho, alecrim e de preferência na véspera, e levar a estufar no dia. No final retificar o tempero.
D110: Cenoura | E110: 25 | F110: 25 | G110: 40 | H110: 40
D111: Ervilhas | E111: 20 | F111: 20 | G111: 30 | H111: 30
D112: Tomate p/ estufados | E112: 25 | F112: 25 | G112: 25 | H112: 25
D113: Cebola p/ estufados | E113: 25 | F113: 25 | G113: 25 | H113: 25
D114: Azeite | E114: 2 | F114: 3 | G114: 4 | H114: 6
D115: Sal p/ conduto | E115: 0.1 | F115: 0.1 | G115: 0.1 | H115: 0.1
D116: Sumo de limão | E116: q.b. | F116: q.b. | G116: q.b. | H116: q.b.
D117: Alecrim | E117: 0.1 | F117: 0.1 | G117: 0.1 | H117: 0.1
D118: Alho seco | E118: 1.2 | F118: 1.5 | G118: 2 | H118: 2
A132: Nº | B132: Nome | D132: Ingredientes | E132: JI | F132: 1.º CEB | G132: 2.º e 3.º CEB | H132: Sec. | J132: Preparação/Confeção
A134: C6 | B134: Bife de frango/peru/Febras de porco grelhado com molho (estufado) de cogumelos | D134: Bife de frango Bife de peru Bife de porco | E134: 85.0 85.0 90.0 | F134: 90.0 90.0 100.0 | G134: 120.0 120.0 130.0 | H134: 130.0 130.0 140.0 | J134: Lavar e picar a cebola, o alho e parte das ervas aromáticas e levar ao lume a estufar adicionando o azeite. Seguidamente acrescentar os cogumelos e deixar estufar. Temperar os bifes/febras com sal, sumo de limão, alho e restantes ervas aromáticas, de preferência de véspera, e levar a grelhar. Ao servir, regar os bifes/febras com o molho (estufado) de cogumelos.
D135: Cogumelos | E135: 10 | F135: 15 | G135: 20 | H135: 25
D136: Cebola p/ estufados | E136: 25 | F136: 25 | G136: 25 | H136: 25
D137: Azeite | E137: 2 | F137: 3 | G137: 4 | H137: 6
D138: Sal p/ conduto | E138: 0.1 | F138: 0.1 | G138: 0.1 | H138: 0.1
D139: Sumo de limão | E139: q.b. | F139: q.b. | G139: q.b. | H139: q.b.
D140: Alho seco | E140: 1.2 | F140: 1.5 | G140: 2 | H140: 2
D141: Orégãos | E141: 0.1 | F141: 0.1 | G141: 0.1 | H141: 0.1
A157: Nº | B157: Nome | D157: Ingredientes | E157: JI | F157: 1.º CEB | G157: 2.º e 3.º CEB | H157: Sec. | J157: Preparação/Confeção
A159: C7 | B159: Carne de porco à portuguesa | D159: Batata | E159: 80 | F159: 100 | G159: 120 | H159: 140 | J159: Cortar a carne de porco em cubos e temperar com o alho, o sal, o sumo de limão e o louro e deixar a marinar. Cortar a batata aos cubos e cozer a vapor e depois de cozidas deixar no forno a alourar ou, em alternativa, fritar as batatas em óleo. Estufar a carne com a marinada e o azeite. Às batatas louras ou fritas e após escorridas, adicionar o preparado de carne, os coentros e misturar tudo. Por fim, adicionar as azeitonas.
D160: Carne de porco | E160: 90 | F160: 100 | G160: 130 | H160: 140
D161: Azeitonas | E161: 0 | F161: 6 | G161: 6 | H161: 6
D162: Óleo de amendoim | E162: 3 | F162: 5 | G162: 7 | H162: 9
D163: Azeite | E163: 2 | F163: 3 | G163: 4 | H163: 5
D164: Sal p/ prato | E164: 0.2 | F164: 0.2 | G164: 0.2 | H164: 0.2
D165: Alho seco | E165: 1.2 | F165: 1.5 | G165: 2 | H165: 2
D166: Coentros | E166: 0.1 | F166: 0.1 | G166: 0.1 | H166: 0.1
D167: Sumo de limão | E167: q.b. | F167: q.b. | G167: q.b. | H167: q.b.
D168: Orégãos | E168: 0.1 | F168: 0.1 | G168: 0.1 | H168: 0.1
D169: Louro | E169: 0.1 | F169: 0.1 | G169: 0.1 | H169: 0.1
A182: Nº | B182: Nome | D182: Ingredientes | E182: JI | F182: 1.º CEB | G182: 2.º e 3.º CEB | H182: Sec. | J182: Preparação/Confeção
A184: C8 | B184: Coxas/Perna de frango/Frango assado ou Frango no forno dourado | D184: Coxa/Perna de frango Frango | E184: 115.0 120.0 | F184: 125.0 140.0 | G184: 160.0 170.0 | H184: 170.0 180.0 | J184: De véspera, lavar, preparar e temperar a carne com uma marinada de sumo de limão, alho picado, sal e ervas aromáticas e reservar em ambiente refrigerado. Posteriormente levar as coxas/pernas de frango/frango com azeite ao forno, previamente quente, disposto em tabuleiro até assar.
D185: Azeite | E185: 2 | F185: 3 | G185: 4 | H185: 6
D186: Sal p/ conduto | E186: 0.1 | F186: 0.1 | G186: 0.1 | H186: 0.1
D187: Sumo de limão | E187: q.b. | F187: q.b. | G187: q.b. | H187: q.b.
D188: Alho seco | E188: 1.2 | F188: 1.5 | G188: 2 | H188: 2
D189: Orégãos | E189: 0.1 | F189: 0.1 | G189: 0.1 | H189: 0.1
D190: Alecrim | E190: 0.1 | F190: 0.1 | G190: 0.1 | H190: 0.1
D191: Salsa | E191: 0.1 | F191: 0.1 | G191: 0.1 | H191: 0.1
A207: Nº | B207: Nome | D207: Ingredientes | E207: JI | F207: 1.º CEB | G207: 2.º e 3.º CEB | H207: Sec. | J207: Preparação/Confeção
A209: C9 | B209: Carnes mistas ao cubos estufadas | D209: Carne de vaca | E209: 42.5 | F209: 45 | G209: 60 | H209: 65 | J209: De véspera, cortar a carne e seguidamente fazer uma marinada de sumo de limão, alho picado, sal e ervas aromáticas e colocar a carne a marinar em ambiente refrigerado. Posteriormente levar a carne a estufar em cama de cebola, tomate, cenoura ralada ou aos cubinhos e azeite. Envolver a carne com o caldo que se vai formando, até ficar estufado.
D210: Carne de porco | E210: 42.5 | F210: 45 | G210: 60 | H210: 65
D211: Cenoura | E211: 50 | F211: 50 | G211: 80 | H211: 80
D212: Tomate p/ estufados | E212: 25 | F212: 25 | G212: 25 | H212: 25
D213: Cebola p/ estufados | E213: 25 | F213: 25 | G213: 25 | H213: 25
D214: Azeite | E214: 2 | F214: 3 | G214: 4 | H214: 6
D215: Sal p/ conduto | E215: 0.1 | F215: 0.1 | G215: 0.1 | H215: 0.1
D216: Sumo de limão | E216: q.b. | F216: q.b. | G216: q.b. | H216: q.b.
D217: Alho seco | E217: 1.2 | F217: 1.5 | G217: 2 | H217: 2
D218: Louro | E218: 0.1 | F218: 0.1 | G218: 0.1 | H218: 0.1
A232: Nº | B232: Nome | D232: Ingredientes | E232: JI | F232: 1.º CEB | G232: 2.º e 3.º CEB | H232: Sec. | J232: Preparação/Confeção
...

Sheet FTPRATOS VEG
D4: FICHAS TÉCNICAS PRATOS VEGETARIANOS
A6: Nº | B6: Nome | D6: Ingredientes | E6: JI | F6: 1.º CEB | G6: 2.º e 3.º CEB | H6: Sec. | J6: Preparação/Confeção
A8: V1 | B8: Empadão de lentilhas/soja | D8: Lentilhas Soja fina | E8: 40.0 40.0 | F8: 50.0 50.0 | G8: 60.0 60.0 | H8: 80.0 80.0 | J8: Deixar as lentilhas a demolhar no dia anterior. Hidratar a soja (caso se aplique). No dia, cozer as lentilhas em água (ou a vapor) com sal. Estufar as lentilhas ou a soja, com tomate, cebola, louro, orégãos e cenoura (previamente cozida aos cubinhos) e azeite. Num tabuleiro dispor alternadamente camadas de puré de batata (feito de acordo com as indicações referidas nas fichas técnicas dos acompanhamentos - puré vegan) e lentilhas/soja e levar ao forno a alourar.
D9: Cenoura | E9: 50 | F9: 50 | G9: 80 | H9: 80
D10: Tomate p/ estufados | E10: 25 | F10: 25 | G10: 25 | H10: 25
D11: Cebola p/ estufados | E11: 25 | F11: 25 | G11: 25 | H11: 25
D12: Âzeite p/ prato | E12: 3 | F12: 5 | G12: 7 | H12: 9
D13: Sal p/ prato | E13: 0.2 | F13: 0.2 | G13: 0.2 | H13: 0.2
D14: Louro | E14: 0.1 | F14: 0.1 | G14: 0.1 | H14: 0.1
D15: Orégãos | E15: 0.1 | F15: 0.1 | G15: 0.1 | H15: 0.1
A31: Nº | B31: Nome | D31: Ingredientes | E31: JI | F31: 1.º CEB | G31: 2.º e 3.º CEB | H31: Sec. | J31: Preparação/Confeção
A33: V2 | B33: Empadão de soja com feijão vermelho/ervilha | D33: Soja fina | E33: 30 | F33: 40 | G33: 50 | H33: 60 | J33: Deixar o feijão vermelho a demolhar no dia anterior. Hidratar a soja. No dia, cozer o feijão/ervilhas em água (ou a vapor) com sal. Estufar a soja com feijão/ervilhas, previamente escorrido, com tomate, cebola, louro, orégãos e cenoura (previamente cozida aos cubinhos) e azeite. Num tabuleiro dispor alternadamente camadas de puré de batata (feito de acordo com as indicações referidas nas fichas técnicas dos acompanhamentos - puré vegan) e soja com feijão/ervilhas e levar ao forno a alourar.
D34: Feijão vermelho Ervilhas | E34: 5.0 20.0 | F34: 10.0 20.0 | G34: 15.0 30.0 | H34: 15.0 30.0
D35: Cenoura | E35: 50 | F35: 50 | G35: 80 | H35: 80
D36: Tomate p/ estufados | E36: 25 | F36: 25 | G36: 25 | H36: 25
D37: Cebola p/ estufados | E37: 25 | F37: 25 | G37: 25 | H37: 25
D38: Âzeite p/ prato | E38: 3 | F38: 5 | G38: 7 | H38: 9
D39: Sal p/ prato | E39: 0.2 | F39: 0.2 | G39: 0.2 | H39: 0.2
D40: Louro | E40: 0.1 | F40: 0.1 | G40: 0.1 | H40: 0.1
D41: Orégãos | E41: 0.1 | F41: 0.1 | G41: 0.1 | H41: 0.1
A56: Nº | B56: Nome | D56: Ingredientes | E56: JI | F56: 1.º CEB | G56: 2.º e 3.º CEB | H56: Sec. | J56: Preparação/Confeção
A58: V3 | B58: Soja à Gomes de Sá | D58: Batata | E58: 80 | F58: 100 | G58: 120 | H58: 140 | J58: Hidratar a soja. Cortar as cebolas e os alhos às rodelas e alourar ligeiramente com um pouco de azeite. Estufar a soja. Num tabuleiro colocar as batatas (ás rodelas), a soja e a cebola. Mexer tudo ligeiramente. Colocar o preparado num tabuleiro. Levar ao forno bem quente e servir com azeitonas pretas e salsa picada, previamente lavada e desinfetada.
D59: Soja grossa | E59: 40 | F59: 50 | G59: 60 | H59: 80
D60: Cebola p/ estufados | E60: 25 | F60: 25 | G60: 25 | H60: 25
D61: Azeitonas pretas | E61: 0 | F61: 6 | G61: 6 | H61: 6 | I61: 25
D62: Âzeite p/ prato | E62: 3 | F62: 5 | G62: 7 | H62: 9
D63: Sal p/ prato | E63: 0.2 | F63: 0.2 | G63: 0.2 | H63: 0.2
D64: Salsa | E64: 0.8 | F64: 1.3 | G64: 1.3 | H64: 1.3
D65: Alho seco | E65: 1.2 | F65: 1.5 | G65: 2 | H65: 2
A81: Nº | B81: Nome | D81: Ingredientes | E81: JI | F81: 1.º CEB | G81: 2.º e 3.º CEB | H81: Sec. | J81: Preparação/Confeção
A83: V4 | B83: Batatas com lentilhas, legumes e broa no forno | D83: Batata | E83: 80 | F83: 100 | G83: 120 | H83: 140 | J83: Cozer as lentilhas em água e sal (previamente demolhadas).Triturar a broa com salsa. Cortar e cozer a couve flor e a cenoura de preferência a vapor. Estufar a cebola, o azeite, o alho picado e a folha de louro, e juntar as lentilhas e os legumes. Descascar as batatas, cortar em rodelas finas e cozer de preferência a vapor. Dispor num tabuleiro as batatas, o preparado de lentilhas e por cima polvilhar com o picado de broa de milho e salsa. Regar com o restante azeite e levar ao forno.
D84: Lentilhas | E84: 40 | F84: 50 | G84: 60 | H84: 80
D85: Cenoura | E85: 25 | F85: 25 | G85: 40 | H85: 40
D86: Couve flor | E86: 25 | F86: 30 | G86: 40 | H86: 50
D87: Cebola p/ assados | E87: 25 | F87: 25 | G87: 25 | H87: 25
D88: Âzeite p/ prato | E88: 3 | F88: 5 | G88: 7 | H88: 9
D89: Sal p/ prato | E89: 0.2 | F89: 0.2 | G89: 0.2 | H89: 0.2
D90: Broa de milho | E90: 10 | F90: 10 | G90: 20 | H90: 20
D91: Sumo de limão | E91: q.b. | F91: q.b. | G91: q.b. | H91: q.b.
D92: Salsa | E92: 0.8 | F92: 1.3 | G92: 1.3 | H92: 1.3
D93: Alho seco | E93: 1.2 | F93: 1.5 | G93: 2 | H93: 2
D94: Louro | E94: 0.1 | F94: 0.1 | G94: 0.1 | H94: 0.1
A106: Nº | B106: Nome | D106: Ingredientes | E106: JI | F106: 1.º CEB | G106: 2.º e 3.º CEB | H106: Sec. | J106: Preparação/Confeção
A108: V5 | B108: Cogumelos com favas à portuguesa | D108: Batata | E108: 80 | F108: 100 | G108: 120 | H108: 140 | J108: Laminar os cogumelos e temperá-los com alho, limão, e orégãos e deixar a marinar de preferência de véspera. Cortar a batata aos cubos e cozer e depois de cozidas deixar no forno a alourar, ou em alternativa, fritar as batatas em óleo. Cozer as favas de preferência a vapor. Picar a cebola e o alho e estufar com os cogumelos e com as favas. Às batatas louras ou fritas, e após escorridas, adicionar o preparado dos cogumelos com as favas, os coentros, e misturar tudo. Por fim, adicionar as azeitonas.
D109: Cebola | E109: 25 | F109: 25 | G109: 25 | H109: 25
D110: Favas | E110: 130 | F110: 160 | G110: 200 | H110: 230
D111: Cogumelos | E111: 10 | F111: 15 | G111: 20 | H111: 25
D112: Azeitonas | E112: 0 | F112: 6 | G112: 6 | H112: 6
D113: Óleo de amendoim | E113: 3 | F113: 5 | G113: 7 | H113: 9
D114: Azeite | E114: 2 | F114: 3 | G114: 4 | H114: 5
D115: Alho seco | E115: 1.2 | F115: 1.5 | G115: 2 | H115: 2
D116: Orégãos | E116: 0.1 | F116: 0.1 | G116: 0.1 | H116: 0.1
D117: Coentros | E117: 0.1 | F117: 0.1 | G117: 0.1 | H117: 0.1
D118: Sumo de limão | E118: q.b. | F118: q.b. | G118: q.b. | H118: q.b.
D119: Louro | E119: 0.1 | F119: 0.1 | G119: 0.1 | H119: 0.1
D120: Sal p/ prato | E120: 0.2 | F120: 0.2 | G120: 0.2 | H120: 0.2
A131: Nº | B131: Nome | D131: Ingredientes | E131: JI | F131: 1.º CEB | G131: 2.º e 3.º CEB | H131: Sec. | J131: Preparação/Confeção
A133: V6 | B133: Lentilhas/Ervilhas estufadas com legumes (alho francês, couve flor/pimento e espinafres) | D133: Lentilhas Ervilhas | E133: 40.0 130.0 | F133: 50.0 160.0 | G133: 60.0 200.0 | H133: 80.0 230.0 | J133: Cozer as lentilhas em água e sal (previamente demolhadas). Cortar e cozer os legumes em água e sal. Estufar a cebola, o azeite, o alho picado e a folha de louro. Juntar as lentilhas e os legumes e deixar apurar.
D134: Alho francês | E134: 30 | F134: 40 | G134: 60 | H134: 75
D135: Couve flor Pimento | E135: 25.0 10.0 | F135: 30.0 10.0 | G135: 40.0 20.0 | H135: 50.0 20.0
D136: Espinafres | E136: 50 | F136: 50 | G136: 60 | H136: 60
D137: Cebola p/ estufados | E137: 25 | F137: 25 | G137: 25 | H137: 25
D138: Azeite | E138: 2 | F138: 3 | G138: 4 | H138: 6
D139: Sal p/ conduto | E139: 0.1 | F139: 0.1 | G139: 0.1 | H139: 0.1
D140: Alho seco | E140: 1.2 | F140: 1.5 | G140: 2 | H140: 2
D141: Louro | E141: 0.1 | F141: 0.1 | G141: 0.1 | H141: 0.1
A156: Nº | B156: Nome | D156: Ingredientes | E156: JI | F156: 1.º CEB | G156: 2.º e 3.º CEB | H156: Sec. | J156: Preparação/Confeção
A158: V7 | B158: Hambúrguer de cogumelos com feijão preto e molho de ervilhas | D158: Feijão preto | E158: 70 | F158: 70 | G158: 80 | H158: 80 | J158: Deixar o feijão a demolhar no dia anterior. No dia, cozer o feijão em água com sal e triturar. Ao triturado, acrescentar os cogumelos. Adicionar posteriormente a cebola, salsa, os orégãos, opão ralado (se necessário para homogeneizar), o azeite e envolver tudo muito bem. Fazer diversas unidades e levar ao forno. Lavar e picar a cebola e o alho e parte das ervas aromáticas e levar ao lume a estufar adicionando o azeite. Acrescentar as ervilhas e deixar estufar. Reduzir a molho triturando e servir com o hambúrguer.
D159: Cogumelos | E159: 10 | F159: 15 | G159: 20 | H159: 25
D160: Ervilhas | E160: 20 | F160: 25 | G160: 30 | H160: 35
D161: Cebola p/ estufados | E161: 25 | F161: 25 | G161: 25 | H161: 25
D162: Salsa | E162: 0.8 | F162: 1.3 | G162: 1.3 | H162: 1.3
D163: Orégãos | E163: 0.1 | F163: 0.1 | G163: 0.1 | H163: 0.1
D164: Pão ralado | E164: q.b. | F164: q.b. | G164: q.b. | H164: q.b.
D165: Alho seco | E165: 1.2 | F165: 1.5 | G165: 2 | H165: 2
D166: Azeite | E166: 2 | F166: 3 | G166: 4 | H166: 6
D167: Sal p/ conduto | E167: 0.1 | F167: 0.1 | G167: 0.1 | H167: 0.1
A181: Nº | B181: Nome | D181: Ingredientes | E181: JI | F181: 1.º CEB | G181: 2.º e 3.º CEB | H181: Sec. | J181: Preparação/Confeção
A183: V8 | B183: Lentilhas à bolonhesa | D183: Lentilhas | E183: 40 | F183: 50 | G183: 60 | H183: 80 | J183: Deixar as lentilhas a demolhar no dia anterior. No dia, cozer as lentilhas em água (ou a vapor) com sal. Lavar e picar a cebola, o alho e a salsa e o tomate. Cortar o tomate em pedaços. Estufar os ingredientes referidos com azeite e orégãos. Adicionar as lentilhas previamente cozidas e escorridas, podendo utilizar a água de cozer as lentilhas para o estufado. Levar a lume brando o preparado até ao fim a cozedura. Retificar o tempero
D184: Tomate p/ estufados | E184: 25 | F184: 25 | G184: 25 | H184: 25
D185: Cebola p/ estufados | E185: 25 | F185: 25 | G185: 25 | H185: 25
D186: Azeite | E186: 2 | F186: 3 | G186: 4 | H186: 6
D187: Sal p/ conduto | E187: 0.1 | F187: 0.1 | G187: 0.1 | H187: 0.1
D188: Salsa | E188: 0.8 | F188: 1.3 | G188: 1.3 | H188: 1.3
D189: Alho seco | E189: 1.2 | F189: 1.5 | G189: 2 | H189: 2
D190: Orégãos | E190: 0.1 | F190: 0.1 | G190: 0.1 | H190: 0.1
A206: Nº | B206: Nome | D206: Ingredientes | E206: JI | F206: 1.º CEB | G206: 2.º e 3.º CEB | H206: Sec. | J206: Preparação/Confeção
A208: V9 | B208: Pimento/ tomate recheado com bolonhesa de soja / lentilhas e ervilhas | D208: Pimento Tomate | E208: 60.0 50.0 | F208: 70.0 50.0 | G208: 100.0 80.0 | H208: 110.0 80.0 | J208: No dia anterior colocar as lentilhas a demolhar. No dia, cozer as lentilhas em água (ou a vapor) com sal ou hidratar a soja fina. Lavar e cortar o pimento/tomate em metades, retirar o interior e picar. Lavar e picar a cebola, o tomate (estufado), o alho e a salsa e estufar os ingredientes referidos com o picado de pimento/tomate e azeite. Adicionar as lentilhas / soja e as ervilhas, previamente cozidas. Levar a lume brando o preparado até ao fim a cozedura. Dispor o preparado anterior no interior do pimento/tomate, polvilhar com orégãos e levar ao forno até alourar.
D210: Soja fina Lentilhas | E210: 40.0 40.0 | F210: 50.0 50.0 | G210: 60.0 60.0 | H210: 80.0 80.0
D211: Ervilhas | E211: 30 | F211: 30 | G211: 40 | H211: 40
D212: Tomate p/ estufados | E212: 25 | F212: 25 | G212: 25 | H212: 25
D213: Cebola p/ estufados | E213: 25 | F213: 25 | G213: 25 | H213: 25
D214: Azeite | E214: 2 | F214: 3 | G214: 4 | H214: 6
D215: Sal p/ conduto | E215: 0.1 | F215: 0.1 | G215: 0.1 | H215: 0.1
D216: Salsa | E216: 0.8 | F216: 1.3 | G216: 1.3 | H216: 1.3
D217: Alho seco | E217: 1.2 | F217: 1.5 | G217: 2 | H217: 2
D218: Orégãos | E218: 0.1 | F218: 0.1 | G218: 0.1 | H218: 0.1
A231: Nº | B231: Nome | D231: Ingredientes | E231: JI | F231: 1.º CEB | G231: 2.º e 3.º CEB | H231: Sec. | J231: Preparação/Confeção
A233: V10 | B233: Soja estufada | D233: Soja grossa | E233: 40 | F233: 50 | G233: 60 | H233: 80 | J233: Hidratar a soja. Lavar e picar a cebola e o alho e o alecrim, juntar o azeite e o louro e levar ao lume. Ao preparado adicionar a soja, o sal e deixar até ao final da cozedura.
D235: Cebola p/ estufados | E235: 25 | F235: 25 | G235: 25 | H235: 25
...

Sheet FTACOMPANHAMENTOS
D4: FICHAS TÉCNICAS ACOMPANHAMENTOS
A7: Nº | B7: Nome | D7: Ingredientes | E7: JI | F7: 1.º CEB | G7: 2.º e 3.º CEB | H7: Sec. | J7: Preparação/Confeção
A9: AC1 | B9: Puré de batata (c/ batata ou flocos de batata) / Puré de batata vegan | D9: Batatas p/ cozer | E9: 80 | F9: 100 | G9: 120 | H9: 140 | J9: Com batata: Descascar as batatas e cozer em água e sal ou a vapor. Após cozedura passar as batatas pelo passe-vite ou desfazê-las com as varas da varinha. Colocar a batata triturada num tacho ao lume e juntar o leite quente ou a bebida vegetal. Adicionar a noz-moscada, mexer sempre até obter uma consistência mole. Com flocos de batata: Preparar o puré de acordo com as indicações do fornecedor.
D10: Flocos de batata* | E10: 15 | F10: 18 | G10: 20 | H10: 25
D11: Noz moscada | E11: 0.1 | F11: 0.1 | G11: 0.1 | H11: 0.1
D12: Sal p/ guarnição | E12: 0.1 | F12: 0.1 | G12: 0.1 | H12: 0.1
D14: Se puré p/ ementa geral:
D15: Leite para puré | E15: 25 | F15: 25 | G15: 50 | H15: 60
D17: Se puré p/ ementa vegetariana:
D18: Bebida vegetal para puré | E18: 25 | F18: 25 | G18: 50 | H18: 60
A32: Nº | B32: Nome | D32: Ingredientes | E32: JI | F32: 1.º CEB | G32: 2.º e 3.º CEB | H32: Sec. | J32: Preparação/Confeção
A34: AC2 | B34: Batatas assadas | D34: Batatas p/ assar | E34: 80 | F34: 100 | G34: 120 | H34: 140 | J34: Descascar e cortar as batatas em quartos ou aos cubos. Colocar as batatas num tabuleiro e adicionar o sal, a salsa, os orégãos e por fim o azeite. Levar ao forno até cozer ao ponto de ficarem coradas.
D35: Salsa | E35: 0.8 | F35: 1.3 | G35: 1.3 | H35: 1.3
D36: Orégãos | E36: 0.1 | F36: 0.1 | G36: 0.1 | H36: 0.1
D37: Azeite | E37: 1 | F37: 2 | G37: 3 | H37: 3
D38: Sal p/ guarnição | E38: 0.1 | F38: 0.1 | G38: 0.1 | H38: 0.1
A57: Nº | B57: Nome | D57: Ingredientes | E57: JI | F57: 1.º CEB | G57: 2.º e 3.º CEB | H57: Sec. | J57: Preparação/Confeção
A59: AC3 | B59: Batatas cozidas | D59: Batatas p/ cozer | E59: 80 | F59: 100 | G59: 120 | H59: 140 | J59: Descascar e cortar as batatas ao meio, aos gomos ou aos cubos e cozer em água e sal ou em tabuleiros perfurados no forno convetor a vapor (s/ adição de sal).
D60: Sal p/ guarnição | E60: 0.1 | F60: 0.1 | G60: 0.1 | H60: 0.1
A82: Nº | B82: Nome | D82: Ingredientes | E82: JI | F82: 1.º CEB | G82: 2.º e 3.º CEB | H82: Sec. | J82: Preparação/Confeção
A84: AC4 | B84: Batatas coradas / alouradas / loura | D84: Batatas p/ assar | E84: 80 | F84: 100 | G84: 120 | H84: 140 | J84: Descascar e cortar as batatas aos cubos e cozer em água e sal ou em tabuleiro perfurado a vapor. Num tabuleiro liso dispor as batatas e regar com um fio de azeite e polvilhar com orégãos. Levar ao forno e deixar corar.
D85: Orégãos | E85: 0.1 | F85: 0.1 | G85: 0.1 | H85: 0.1
D86: Azeite | E86: 1 | F86: 2 | G86: 3 | H86: 3
D87: Sal p/ guarnição | E87: 0.1 | F87: 0.1 | G87: 0.1 | H87: 0.1
A107: Nº | B107: Nome | D107: Ingredientes | E107: JI | F107: 1.º CEB | G107: 2.º e 3.º CEB | H107: Sec. | J107: Preparação/Confeção
A109: AC5 | B109: Salada: - Russa (batata, cenoura, ervilhas e feijão-verde) - Camponesa (batata, cenoura, ervilhas e milho) | D109: Batatas p/ salada russa | E109: 60 | F109: 80 | G109: 100 | H109: 120 | J109: Descascar e cortar as batatas aos cubos e cozer em água e sal ou no forno convetor em tabuleiro perfurado a vapor. Cozer também as cenouras, o feijão-verde/milho e as ervilhas em água e sal ou em tabuleiro perfurado a vapor. Depois de cozidos todos os legumes envolver com as batatas.
D110: Cenoura p/ salada russa | E110: 60 | F110: 60 | G110: 80 | H110: 80
D111: Ervilhas p/ salada russa | E111: 40 | F111: 40 | G111: 60 | H111: 60
D112: Sal p/ guarnição | E112: 0.1 | F112: 0.1 | G112: 0.1 | H112: 0.1
D114: Se salada russa:
D115: Feijão verde guarnição mista | E115: 40 | F115: 50 | G115: 80 | H115: 100
D117: Se salada camponesa:
D118: Milho guarnição mista | E118: 25 | F118: 25 | G118: 35 | H118: 50
A132: Nº | B132: Nome | D132: Ingredientes | E132: JI | F132: 1.º CEB | G132: 2.º e 3.º CEB | H132: Sec. | J132: Preparação/Confeção
A134: AC6 | B134: Arroz de: - Cenoura; ou - Milho; ou - Ervilhas; ou - Cogumelos; ou - Couve; ou - Tomate | D134: Arroz + leguminosas/hortícolas | E134: 20 | F134: 30 | G134: 40 | H134: 50 | J134: Estufar a cebola e o alho em azeite. Adicionar a cenoura cortada aos cubos ou ralada/milho/ervilhas/cogumelos/couve/tomate. Posteriormente juntar a água e quando estiver a ferver, adicionar o arroz. No final retificar o tempero.
D135: Cebola p/ estufados | E135: 25 | F135: 25 | G135: 25 | H135: 25
D136: Alho seco | E136: 1.2 | F136: 1.5 | G136: 2 | H136: 2
D137: Sal p/ guarnição | E137: 0.1 | F137: 0.1 | G137: 0.1 | H137: 0.1
D139: Se:
D140: Cenoura p/ arroz | E140: 40 | F140: 40 | G140: 60 | H140: 60
D141: Milho guarnição mista | E141: 10 | F141: 10 | G141: 15 | H141: 15
D142: Ervilhas p/ arroz | E142: 30 | F142: 30 | G142: 40 | H142: 40
D143: Cogumelos guarnição mista | E143: 10 | F143: 15 | G143: 20 | H143: 25
D144: Couve p/ arroz | E144: 50 | F144: 70 | G144: 100 | H144: 100
D145: Tomate p/ arroz | E145: 35 | F145: 35 | G145: 45 | H145: 45
A157: Nº | B157: Nome | D157: Ingredientes | E157: JI | F157: 1.º CEB | G157: 2.º e 3.º CEB | H157: Sec. | J157: Preparação/Confeção
A159: AC7 | B159: Arroz de legumes: - Cenoura + 2 legumes: - Feijão-verde - Tomate - Brócolos - Milho - Couve | D159: Arroz + leguminosas/hortícolas | E159: 20 | F159: 30 | G159: 40 | H159: 50 | J159: Estufar a cebola e o alho em azeite. Adicionar a cenoura cortada aos cubos e juntar dois dos restantes legumes (feijão-verde/ tomate/ brócolos/ milho/ couve). Posteriormente juntar a água e quando estiver a ferver, adicionar o arroz. No final retificar o tempero.
D160: Cebola p/ estufados | E160: 25 | F160: 25 | G160: 25 | H160: 25
D161: Alho seco | E161: 1.2 | F161: 1.5 | G161: 2 | H161: 2
D162: Cenoura p/ arroz | E162: 20 | F162: 20 | G162: 30 | H162: 30
D163: Azeite | E163: 1 | F163: 2 | G163: 3 | H163: 3
D164: Sal p/ guarnição | E164: 0.1 | F164: 0.1 | G164: 0.1 | H164: 0.1
D166: Juntar 2 legumes:
D167: Feijão-verde guarnição mista | E167: 20 | F167: 25 | G167: 30 | H167: 40
D168: Tomate p/ arroz | E168: 15 | F168: 15 | G168: 20 | H168: 20
D169: Brócolos guarnição mista | E169: 20 | F169: 30 | G169: 40 | H169: 50
D170: Milho guarnição mista | E170: 10 | F170: 10 | G170: 15 | H170: 20
D171: Couve p/ arroz | E171: 30 | F171: 40 | G171: 50 | H171: 50
A182: Nº | B182: Nome | D182: Ingredientes | E182: JI | F182: 1.º CEB | G182: 2.º e 3.º CEB | H182: Sec. | J182: Preparação/Confeção
A184: AC8 | B184: Arroz Branco | D184: Arroz guarnição base | E184: 30 | F184: 40 | G184: 50 | H184: 60 | J184: Picar o alho e a cebola e estufar em azeite. Adicionar água ao preparado. Após fervura acrescentar o arroz. No final retificar o tempero.
D185: Cebola p/ estufados | E185: 25 | F185: 25 | G185: 25 | H185: 25
D186: Alho seco | E186: 1.2 | F186: 1.5 | G186: 2 | H186: 2
D187: Azeite | E187: 1 | F187: 2 | G187: 3 | H187: 3
D188: Sal p/ guarnição | E188: 0.1 | F188: 0.1 | G188: 0.1 | H188: 0.1
A206: Nº | B206: Nome | D206: Ingredientes | E206: JI | F206: 1.º CEB | G206: 2.º e 3.º CEB | H206: Sec. | J206: Preparação/Confeção
A208: AC9 | B208: Massa (esparguete / espiral / fusilli / macarronete) | D208: Massa guarnição base | E208: 20 | F208: 30 | G208: 40 | H208: 50 | J208: Levar água num tacho ao lume até ferver. Posteriormente adicionar a massa (esparguete/espirais/macarronete/fusili) e parte do sal e deixar cozer. No final retificar o tempero.
D209: Sal p/ guarnição | E209: 0.1 | F209: 0.1 | G209: 0.1 | H209: 0.1
A231: Nº | B231: Nome | D231: Ingredientes | E231: JI | F231: 1.º CEB | G231: 2.º e 3.º CEB | H231: Sec. | J231: Preparação/Confeção
A233: AC10 | B233: Leguminosas cozidas: - Feijão; ou - Grão; ou - Lentilhas | D233: Feijão seco guarnição base | E233: 20 | F233: 30 | G233: 40 | H233: 50 | J233: Deixar o feijão/ o grão/ as lentilhas a demolhar no dia anterior. No dia, cozer o feijão / o grão / as lentilhas em água com sal. Escorrer e adicionar ao restante preparado.
D234: Grão-de-bico guarnição base | E234: 20 | F234: 30 | G234: 40 | H234: 50
D235: Lentilhas guarnição base | E235: 20 | F235: 20 | G235: 20 | H235: 20
D236: Sal p/ guarnição | E236: 0.1 | F236: 0.1 | G236: 0.1 | H236: 0.1
A256: Nº | B256: Nome | D256: Ingredientes | E256: JI | F256: 1.º CEB | G256: 2.º e 3.º CEB | H256: Sec. | J256: Preparação/Confeção
A258: AC11 | B258: Arroz de feijão | D258: Arroz + leguminosas/hortícolas | E258: 20 | F258: 30 | G258: 40 | H258: 50 | J258: Estufar a cebola, o alho e o tomate em azeite. Adicionar o feijão previamente demolhado e cozido. Adicionar a água de cozer o feijão. Após fervura adicionar o arroz. Antes de terminar a confeção retificar o tempero.
D259: Tomate p/ estufados | E259: 25 | F259: 25 | G259: 25 | H259: 25
D260: Cebola p/ estufados | E260: 25 | F260: 25 | G260: 25 | H260: 25
D261: Alho seco | E261: 1.2 | F261: 1.5 | G261: 2 | H261: 2
D262: Feijão seco p/ arroz | E262: 5 | F262: 5 | G262: 5 | H262: 5
D263: Azeite | E263: 1 | F263: 2 | G263: 3 | H263: 3
D264: Sal p/ guarnição | E264: 0.1 | F264: 0.1 | G264: 0.1 | H264: 0.1
A281: Nº | B281: Nome | D281: Ingredientes | E281: JI | F281: 1.º CEB | G281: 2.º e 3.º CEB | H281: Sec. | J281: Preparação/Confeção
A283: AC12 | B283: Massa (esparguete / espiral / fusilli / macarronete) salpicada de cenoura ralada/ ervilhas/ cogumelos | D283: Massa guarnição base | E283: 20 | F283: 30 | G283: 40 | H283: 50 | J283: Levar água num tacho ao lume até ferver. Posteriormente adicionar a massa (esparguete/espirais/macarronete/fusili) e parte do sal e deixar cozer. No final retificar o tempero.
D284: Sal p/ guarnição | E284: 0.1 | F284: 0.1 | G284: 0.1 | H284: 0.1
D286: Se :
D287: Cenoura guarnição mista | E287: 40 | F287: 50 | G287: 80 | H287: 100
D288: Ervilhas guarnição mista | E288: 40 | F288: 40 | G288: 60 | H288: 60
D289: Cogumelos guarnição mista | E289: 50 | F289: 60 | G289: 75 | H289: 90
A306: Nº | B306: Nome | D306: Ingredientes | E306: JI | F306: 1.º CEB | G306: 2.º e 3.º CEB | H306: Sec. | J306: Preparação/Confeção
A308: AC13 | B308: Arroz de legumes (2 legumes): - Cenoura - Feijão-verde - Tomate - Brócolos - Milho - Couve - Ervilhas | D308: Arroz + leguminosas/hortícolas | E308: 20 | F308: 30 | G308: 40 | H308: 50 | J308: Estufar a cebola e o alho em azeite. Adicionar os legumes (feijão-verde/ tomate/ brócolos/ milho/ couve/ ervilhas). Posteriormente juntar a água e quando estiver a ferver, adicionar o arroz. No final retificar o tempero.
D309: Cebola p/ estufados | E309: 25 | F309: 25 | G309: 25 | H309: 25
D310: Alho seco | E310: 1.2 | F310: 1.5 | G310: 2 | H310: 2
D311: Azeite | E311: 1 | F311: 2 | G311: 3 | H311: 3
D312: Sal p/ guarnição | E312: 0.1 | F312: 0.1 | G312: 0.1 | H312: 0.1
D314: 2 legumes:
D315: Cenoura p/ arroz | E315: 25 | F315: 25 | G315: 40 | H315: 40
D316: Feijão-verde guarnição mista | E316: 15 | F316: 15 | G316: 20 | H316: 20
D317: Tomate p/ arroz | E317: 35 | F317: 35 | G317: 45 | H317: 45
D318: Brócolos guarnição mista | E318: 20 | F318: 30 | G318: 40 | H318: 50
D319: Milho guarnição mista | E319: 10 | F319: 10 | G319: 35 | H319: 35
D320: Ervilhas p/ arroz | E320: 20 | F320: 20 | G320: 30 | H320: 30
...

Sheet FTHORTÍCOLAS
D4: FICHAS TÉCNICAS HORTÍCOLAS
A6: Nº | B6: Nome | D6: Ingredientes | E6: JI | F6: 1.º CEB | G6: 2.º e 3.º CEB | H6: Sec. | J6: Preparação/Confeção
A8: SLD | B8: Salada (3 variedades de hortícolas) | D8: Alface salada mista | E8: 50 | F8: 50 | G8: 100 | H8: 100 | J8: Preparar, lavar e desinfetar o vegetal segundo as indicações do Manual de Segurança Alimentar e da ficha técnica do produto a utilizar. Cortar de acordo com o fim e a população alvo a quem se destina.
D9: Beterraba salada mista | E9: 100 | F9: 120 | G9: 150 | H9: 150
D10: Cenoura salada mista | E10: 40 | F10: 40 | G10: 60 | H10: 60
D11: Couve coração guarnição mista | E11: 50 | F11: 60 | G11: 80 | H11: 100
D12: Couve Roxa p/ salada mista | E12: 60 | F12: 70 | G12: 90 | H12: 100
D13: Curgete guarnição mista | E13: 60 | F13: 70 | G13: 110 | H13: 130
D14: Pepino p/ salada mista | E14: 30 | F14: 30 | G14: 50 | H14: 50
D15: Pimento salada mista | E15: 30 | F15: 30 | G15: 50 | H15: 50
D16: Tomate p/ salada mista | E16: 30 | F16: 30 | G16: 60 | H16: 60
A31: Nº | B31: Nome | D31: Ingredientes | E31: JI | F31: 1.º CEB | G31: 2.º e 3.º CEB | H31: Sec. | J31: Preparação/Confeção
A33: LEG1 | B33: Legumes cozidos: - Couve-lombarda - Brócolos - Couve-flor - Cenoura / cenoura baby - Ervilhas - Feijão-verde - Couves-de-Bruxelas - Milho | D33: Couve-lombarda guarnição mista | E33: 50 | F33: 70 | G33: 90 | H33: 110 | J33: Levar água num tacho ao lume até ferver. Posteriormente adicionar o(s) legume(s) mencionados na ementa e previamente lavados e cortados, quando aplicável, adicionar parte do sal OU levar o(s) legume(s) em tabuleiro perfurado ao forno convetor e colocar no módulo de cozedura a vapor, sem adicionar sal. Deixar cozer. No final retificar o tempero.
D34: Brócolos guarnição mista | E34: 45 | F34: 60 | G34: 80 | H34: 100
D35: Couve-flor guarnição mista | E35: 45 | F35: 60 | G35: 80 | H35: 100
D36: Cenoura / cenoura baby guarnição mista | E36: 50 | F36: 50 | G36: 80 | H36: 80
D37: Ervilhas guarnição mista | E37: 40 | F37: 40 | G37: 60 | H37: 60
D38: Feijão-verde guarnição mista | E38: 40 | F38: 50 | G38: 80 | H38: 100
D39: Couves-de-Bruxelas guarnição mista | E39: 60 | F39: 75 | G39: 100 | H39: 125
D40: Milho guarnição mista | E40: 25 | F40: 25 | G40: 35 | H40: 50
D41: Sal | E41: 0.1 | F41: 0.1 | G41: 0.1 | H41: 0.1
A56: Nº | B56: Nome | D56: Ingredientes | E56: JI | F56: 1.º CEB | G56: 2.º e 3.º CEB | H56: Sec. | J56: Preparação/Confeção
A58: LEG2 | B58: Estufado de legumes: - Brócolos - Cenoura - Tomate - Feijão-verde - Cogumelos - Ervilhas | D58: Brócolos guarnição mista | E58: 30 | F58: 40 | G58: 50 | H58: 60 | J58: Levar água num tacho ao lume até ferver. Posteriormente adicionar o(s) legume(s) de acordo com a ementa e adicionar parte do sal e deixar cozer OU levar o(s) legume(s) em tabuleiro perfurado ao forno convetor e colocar no módulo de cozedura a vapor, sem adicionar sal. Deixar cozer. Num tacho à parte colocar cebola, alho e o(s) respetivo(s) legume(s), adicionar o azeite e levar ao lume a estufar. No final retificar o tempero.
D59: Cenoura guarnição mista | E59: 25 | F59: 25 | G59: 40 | H59: 40
D60: Tomate p/ estufados | E60: 25 | F60: 25 | G60: 25 | H60: 25
D61: Feijão-verde guarnição mista | E61: 30 | F61: 40 | G61: 50 | H61: 60
D62: Cogumelos guarnição mista | E62: 25 | F62: 30 | G62: 35 | H62: 40
D63: Ervilhas guarnição mista | E63: 25 | F63: 25 | G63: 35 | H63: 35
D64: Cebola p/ estufados | E64: 25 | F64: 25 | G64: 25 | H64: 25
D65: Alho seco | E65: 1.2 | F65: 1.5 | G65: 2 | H65: 2
D66: Sal | E66: 0.1 | F66: 0.1 | G66: 0.1 | H66: 0.1
A81: Nº | B81: Nome | D81: Ingredientes | E81: JI | F81: 1.º CEB | G81: 2.º e 3.º CEB | H81: Sec. | J81: Preparação/Confeção
A83: LEG3 | B83: Macedónia de legumes (Feijão verde, ervilhas e cenoura) | D83: Cenoura p/ salada russa | E83: 60 | F83: 60 | G83: 80 | H83: 80 | J83: Levar água num tacho ao lume até ferver. Posteriormente adicionar os legumes mencionados e adicionar parte do sal e deixar cozer OU levar os legumes em tabuleiro perfurado ao forno convetor e colocar no módulo de cozedura a vapor, sem adicionar sal. Deixar cozer. No final retificar o tempero. Servir e temperar com azeite.
D84: Ervilhas p/ salada russa | E84: 40 | F84: 40 | G84: 60 | H84: 60
D85: Feijão verde guarnição mista | E85: 40 | F85: 50 | G85: 80 | H85: 100
D86: Azeite | E86: 1 | F86: 2 | G86: 3 | H86: 3
D87: Sal | E87: 0.1 | F87: 0.1 | G87: 0.1 | H87: 0.1

Sheet FTSOBREMESAS
D4: FICHAS TÉCNICAS FRUTA/SOBREMESAS
A6: Nº | B6: Nome | D6: Ingredientes | E6: JI | F6: 1.º CEB | G6: 2.º e 3.º CEB | H6: Sec. | J6: Preparação/Confeção
A8: SOB1 | B8: Gelatina com frutas | D8: Gelatina em pó | E8: 8.5 | F8: 8.5 | G8: 17 | H8: 17 | J8: Preparar a gelatina de acordo com as indicações do fornecedor. Colocar a gelatina no frigorífico. Dispor pedaços pequenos de fruta (abacaxi e laranja), previamente lavados, descascados e cortados, por cima da gelatina.
D9: Abacaxi | E9: 10 | F9: 10 | G9: 20 | H9: 20
D10: Laranja | E10: 20 | F10: 20 | G10: 40 | H10: 40
D11: Água | E11: 75 | F11: 75 | G11: 150 | H11: 150
A31: Nº | B31: Nome | D31: Ingredientes | E31: JI | F31: 1.º CEB | G31: 2.º e 3.º CEB | H31: Sec. | J31: Preparação/Confeção
A33: SOB2 | B33: Leite-creme | D33: Açúcar Branco | E33: 4 | F33: 4 | G33: 6 | H33: 6 | J33: Colocar parte do leite ao lume, juntamente com o pau de canela e as cascas de limão, até ferver. À parte, juntar o açúcar com as gemas. Verter sobre o preparado anterior o restante leite frio, aos poucos, e mexendo sempre, seguidamente adicionar o leite quente. Levar ao lume, sem parar de mexer, até engrossar. Tirar o preparado do calor e eliminar a canela e as cascas de limão. Colocar de seguida nas taças e deixar arrefecer no frigorífico. Decorar com canela em pó.
D34: Leite de vaca MG | E34: 50 | F34: 50 | G34: 125 | H34: 125
D35: Gema de ovo pasteurizado líquida | E35: 6 | F35: 6 | G35: 15 | H35: 15
D36: Canela em pó | E36: 0.1 | F36: 0.1 | G36: 0.1 | H36: 0.1
D37: Casca de limão | E37: q.b. | F37: q.b. | G37: q.b. | H37: q.b.
D38: Pau de canela | E38: q.b. | F38: q.b. | G38: q.b. | H38: q.b.
A56: Nº | B56: Nome | D56: Ingredientes | E56: JI | F56: 1.º CEB | G56: 2.º e 3.º CEB | H56: Sec. | J56: Preparação/Confeção
A58: SOB3 | B58: Arroz doce | D58: Arroz p/ Arroz Doce | E58: 20 | F58: 20 | G58: 25 | H58: 25 | J58: Lavar e escorrer o arroz levando-o, seguidamente, a cozer em leite (juntamente com a casca de limão, o pau de canela e o açúcar). Deixar ferver em lume brando, mexendo sempre. Quando o leite estiver reduzido, retirar o arroz do lume. Colocar de seguida nas taças e deixar arrefecer no frigorífico. Decorar com canela em pó.
D59: Leite de vaca MG | E59: 50 | F59: 50 | G59: 125 | H59: 125
D60: Açúcar Branco | E60: 4 | F60: 4 | G60: 6 | H60: 6
D61: Canela em pó | E61: 0.1 | F61: 0.1 | G61: 0.1 | H61: 0.1
D62: Casca de limão | E62: q.b. | F62: q.b. | G62: q.b. | H62: q.b.
D63: Pau de canela | E63: q.b. | F63: q.b. | G63: q.b. | H63: q.b.
A81: Nº | B81: Nome | D81: Ingredientes | E81: JI | F81: 1.º CEB | G81: 2.º e 3.º CEB | H81: Sec. | J81: Preparação/Confeção
A83: SOB4 | B83: Aletria | D83: Massa | E83: 10 | F83: 15 | G83: 20 | H83: 30 | J83: Levar a massa a cozer em leite (juntamente com a casca de limão, o pau de canela e o açúcar). Deixar ferver em lume brando, mexendo sempre. Quando o leite estiver reduzido, retirar a massa do lume. Colocar de seguida nas taças e deixar arrefecer no frigorífico. Decorar com canela em pó.
D84: Leite de vaca MG | E84: 50 | F84: 50 | G84: 125 | H84: 125
D85: Açúcar Branco | E85: 4 | F85: 4 | G85: 6 | H85: 6
D86: Canela em pó | E86: 0.1 | F86: 0.1 | G86: 0.1 | H86: 0.1
D87: Casca de limão | E87: q.b. | F87: q.b. | G87: q.b. | H87: q.b.
D88: Pau de canela | E88: q.b. | F88: q.b. | G88: q.b. | H88: q.b.
A106: Nº | B106: Nome | D106: Ingredientes | E106: JI | F106: 1.º CEB | G106: 2.º e 3.º CEB | H106: Sec. | J106: Preparação/Confeção
A108: SOB5 | B108: Iogurte | D108: Iogurte | E108: 125 | F108: 125 | G108: 125 | H108: 125
A131: Nº | B131: Nome | D131: Ingredientes | E131: JI | F131: 1.º CEB | G131: 2.º e 3.º CEB | H131: Sec. | J131: Preparação/Confeção
A133: SOB6 | B133: Pudim | D133: Açúcar Branco | E133: 4 | F133: 4 | G133: 6 | H133: 6 | J133: Ferver o leite com a casca de laranja. Colocar o ovo numa tigela, juntar parte do açúcar e misturar bem, sem bater. Adicionar o leite já morno e misturar. Levar o restante açúcar ao lume até atingir o ponto de caramelo e colocá-lo numa forma de pudim de forma a cobrir a mesma. Adicionar o preparado e levar ao forno, em banho-maria, até cozer. Depois de cozido, retirar o pudim do forno e deixar arrefecer totalmente antes de o desenformar.
D134: Leite de vaca MG | E134: 50 | F134: 50 | G134: 125 | H134: 125
D135: Ovo pasteurizado inteiro líquido | E135: 28 | F135: 28 | G135: 70 | H135: 70
D136: Casca de laranja | E136: q.b. | F136: q.b. | G136: q.b. | H136: q.b.
A156: Nº | B156: Nome | D156: Ingredientes | E156: JI | F156: 1.º CEB | G156: 2.º e 3.º CEB | H156: Sec. | J156: Preparação/Confeção
A158: SOB7 | B158: Fruta assada (maçã ou pera) | D158: Maçã | E158: 80 | F158: 80 | G158: 160 | H158: 160 | J158: Lavar e retirar a parte central (caroço e sementes) da fruta. Colocar a fruta num tabuleiro, polvilhar com canela e regar com um pouco de água. Levar ao forno até assar.
D159: Pera | E159: 80 | F159: 80 | G159: 160 | H159: 160
D160: Canela em pó | E160: 0.1 | F160: 0.1 | G160: 0.1 | H160: 0.1
A181: Nº | B181: Nome | D181: Ingredientes | E181: JI | F181: 1.º CEB | G181: 2.º e 3.º CEB | H181: Sec. | J181: Preparação/Confeção
A183: SOB8 | B183: Fruta cozida (maçã ou pera) | D183: Maçã | E183: 80 | F183: 80 | G183: 160 | H183: 160 | J183: Descascar e lavar a fruta sem lhe retirar o cabo. Levar a cozer em água a ferver com raspas de limão ou colocar em tabuleiro perfurado e levar ao forno convetor a cozer a vapor, polvilhado com raspas de limão. Polvilhar com canela em pó antes de servir.
D184: Pera | E184: 80 | F184: 80 | G184: 160 | H184: 160
D185: Canela em pó | E185: 0.1 | F185: 0.1 | G185: 0.1 | H185: 0.1
D186: Casca de limão | E186: q.b. | F186: q.b. | G186: q.b. | H186: q.b.
A206: Nº | B206: Nome | D206: Ingredientes | E206: JI | F206: 1.º CEB | G206: 2.º e 3.º CEB | H206: Sec. | J206: Preparação/Confeção
A208: SOB9 | B208: Fruta | D208: Alperce | E208: 50 | F208: 100 | G208: 150 | H208: 150 | J208: Lavar e desinfetar segundo as recomendações do manual de qualidade. Colocar a fruta em frio devidamente acondicionado e/ou colocar individualmente em taças e expor na linha de self, num horário o mais próximo possível da hora de servir.
D209: Ameixa | E209: 60 | F209: 120 | G209: 180 | H209: 180
D210: Ananás | E210: 85 | F210: 85 | G210: 170 | H210: 170
D211: Cereja | E211: 120 | F211: 120 | G211: 150 | H211: 150
D212: Clementina | E212: 80 | F212: 80 | G212: 160 | H212: 160
D213: Damasco | E213: 50 | F213: 100 | G213: 150 | H213: 150
D214: Laranja | E214: 80 | F214: 80 | G214: 160 | H214: 160
D215: Maçã | E215: 80 | F215: 80 | G215: 160 | H215: 160
D216: Melancia | E216: 125 | F216: 125 | G216: 250 | H216: 250
D217: Melão | E217: 90 | F217: 90 | G217: 180 | H217: 180
D218: Meloa | E218: 150 | F218: 150 | G218: 300 | H218: 300
D219: Morangos | E219: 120 | F219: 120 | G219: 150 | H219: 150
D220: Kiwi | E220: 80 | F220: 80 | G220: 160 | H220: 160
... D226: Uva | E226: 120 | F226: 120 | G226: 150 | H226: 150
A231: Nº | B231: Nome | D231: Ingredientes | E231: JI | F231: 1.º CEB | G231: 2.º e 3.º CEB | H231: Sec. | J231: Preparação/Confeção
A233: SOB10 | B233: Gelatina comercial / Gelatina instantânea | D233: Gelatina em pó | E233: 8.5 | F233: 8.5 | G233: 17 | H233: 17 | J233: Preparar a gelatina de acordo com as indicações do fornecedor. Colocar a gelatina no frigorífico.
D234: Água | E234: 75 | F234: 75 | G234: 150 | H234: 150
A256: Nº | B256: Nome | D256: Ingredientes | E256: JI | F256: 1.º CEB | G256: 2.º e 3.º CEB | H256: Sec. | J256: Preparação/Confeção
A258: SOB11 | B258: Gelado | D258: Gelado | E258: 75 | F258: 75 | G258: 150 | H258: 150

Sheet FTPÃO
D3: FICHAS TÉCNICAS PÃO
A5: Nº | B5: Nome | D5: Ingredientes | E5: JI | F5: 1.º CEB | G5: 2.º e 3.º CEB | H5: Sec. | J5: Preparação/Confeção
A7: 1 | B7: Pão de mistura e broa | D7: Pão de Mistura | E7: 25 | F7: 25 | G7: 45 | H7: 45 | J7: Pão de mistura de fabrico industrial, entregue no dia de consumo.
