Workbook

Sheet Ementas Geral 1ºP 21-22
E2: DIETA MEDITERRÂNICA - Lote 2 1º CEB
A4: 0 | B4: 0 | C4: 0 | D4: 0 | E4: 0
B5: 0 | C5: Semana
B6: 0 | F6: VE (KJ) | G6: VE (Kcal) | H6: Lip. (g) | I6: AG Sat. (g) | J6: HC (g) | K6: Prot. (g) | L6: Sal (g) | M6: Sal (g)
A7: Segunda-Feira | B7: 0 | C7: Sopa
B8: 0 | C8: Prato e Vegetais
B9: 0
B10: 0 | C10: Sobremesa
B11: 0 | C11: Pão
B12: 0 | C12: 0
B13: 0 | F13: VE (KJ) | G13: VE (Kcal) | H13: Lip. (g) | I13: AG Sat. (g) | J13: HC (g) | K13: Prot. (g) | L13: Sal (g) | M13: Sal (g)
A14: Terça-Feira | B14: 0 | C14: =$C$7 -> Sopa
B15: 0 | C15: =$C$8 -> Prato e Vegetais
B16: 0 | C16: =$C$9 -> 0
B17: 0 | C17: =$C$10 -> Sobremesa
B18: 0 | C18: =$C$11 -> Pão
B19: 0 | C19: 0
B20: 0 | F20: VE (KJ) | G20: VE (Kcal) | H20: Lip. (g) | I20: AG Sat. (g) | J20: HC (g) | K20: Prot. (g) | L20: Sal (g) | M20: Sal (g)
A21: Quarta-Feira | B21: 0 | C21: =$C$7 -> Sopa
B22: 0 | C22: =$C$8 -> Prato e Vegetais
B23: 0 | C23: =$C$9 -> 0
B24: 0 | C24: =$C$10 -> Sobremesa
B25: 0 | C25: =$C$11 -> Pão
B26: 0 | C26: 0
B27: 0 | F27: VE (KJ) | G27: VE (Kcal) | H27: Lip. (g) | I27: AG Sat. (g) | J27: HC (g) | K27: Prot. (g) | L27: Sal (g) | M27: Sal (g)
A28: Quinta-Feira | B28: 0 | C28: =$C$7 -> Sopa
B29: 0 | C29: =$C$8 -> Prato e Vegetais
B30: 0 | C30: =$C$9 -> 0
B31: 0 | C31: =$C$10 -> Sobremesa
B32: 0 | C32: =$C$11 -> Pão
B33: 0 | C33: 0
B34: 0 | F34: VE (KJ) | G34: VE (Kcal) | H34: Lip. (g) | I34: AG Sat. (g) | J34: HC (g) | K34: Prot. (g) | L34: Sal (g) | M34: Sal (g)
A35: Sexta-Feira | B35: 0 | C35: =$C$7 -> Sopa
B36: 0 | C36: =$C$8 -> Prato e Vegetais
B37: 0 | C37: =$C$9 -> 0
B38: 0 | C38: =$C$10 -> Sobremesa
B39: 0 | C39: =$C$11 -> Pão
A40: A sua refeição contém ou pode conter as seguintes substâncias ou produtos e seus derivados: (1) Cereais que contêm glúten, (2) Crustáceos, (3) Ovos, (4) Peixes, (5) Amendoins, (6) Soja, (7) Leite, (8) Frutos de casca rija, (9) Aipo, (10) Mostarda, (11) Sementes de sésamo, (12) Dióxido de enxofre e sulfitos, (13) Tremoço, (14) Moluscos. Para quem não é alérgico ou intolerante, estas substâncias ou produtos são completamente inofensivas. Caso necessite informação adicional sobre os produtos em causa deve solicitar aos funcionários. Declaração nutricional: valores por dose, calculados a partir dos valores médios conhecidos dos ingredientes utilizados, segundo o Instituto Nacional de Saúde Dr. Ricardo Jorge, Tabela da Composição de Alimentos (2007), e a informação disponibilizada pelos fornecedores. Legenda: VE - Valor energético, Líp. - Lípidos, AG Sat. - Ácidos Gordos Saturados, HC - Hidratos de Carbono, Prot. - Proteínas.
B41: 0 | C41: Semana 1 | E41: 13 a 17 de setembro
B42: 0 | F42: VE (kJ) | G42: VE (kcal) | H42: Lip. (g) | I42: AG Sat. (g) | J42: HC (g) | K42: Prot. (g) | L42: Sal (g) | M42: Açúcar (g)
...

Sheet Ementas Veg 1ºP 21-22
E2: DIETA VEGETARIANA - Lote 2 1º CEB
A4: 0 | B4: 0 | C4: 0 | D4: 0 | E4: 0
B5: 0 | C5: Semana
B6: 0 | F6: VE (KJ) | G6: VE (Kcal) | H6: Lip. (g) | I6: AG Sat. (g) | J6: HC (g) | K6: Prot. (g) | L6: Sal (g) | M6: Sal (g)
A7: Segunda-Feira | B7: 0 | C7: Sopa
B8: 0 | C8: Prato e Vegetais
B9: 0
B10: 0 | C10: Sobremesa
B11: 0 | C11: Pão
B12: 0 | C12: 0
B13: 0 | F13: VE (KJ) | G13: VE (Kcal) | H13: Lip. (g) | I13: AG Sat. (g) | J13: HC (g) | K13: Prot. (g) | L13: Sal (g) | M13: Sal (g)
A14: Terça-Feira | B14: 0 | C14: =$C$7 -> Sopa
B15: 0 | C15: =$C$8 -> Prato e Vegetais
B16: 0 | C16: =$C$9 -> 0
B17: 0 | C17: =$C$10 -> Sobremesa
B18: 0 | C18: =$C$11 -> Pão
B19: 0 | C19: 0
B20: 0 | F20: VE (KJ) | G20: VE (Kcal) | H20: Lip. (g) | I20: AG Sat. (g) | J20: HC (g) | K20: Prot. (g) | L20: Sal (g) | M20: Sal (g)
A21: Quarta-Feira | B21: 0 | C21: =$C$7 -> Sopa
B22: 0 | C22: =$C$8 -> Prato e Vegetais
B23: 0 | C23: =$C$9 -> 0
B24: 0 | C24: =$C$10 -> Sobremesa
B25: 0 | C25: =$C$11 -> Pão
B26: 0 | C26: 0
B27: 0 | F27: VE (KJ) | G27: VE (Kcal) | H27: Lip. (g) | I27: AG Sat. (g) | J27: HC (g) | K27: Prot. (g) | L27: Sal (g) | M27: Sal (g)
A28: Quinta-Feira | B28: 0 | C28: =$C$7 -> Sopa
B29: 0 | C29: =$C$8 -> Prato e Vegetais
B30: 0 | C30: =$C$9 -> 0
B31: 0 | C31: =$C$10 -> Sobremesa
B32: 0 | C32: =$C$11 -> Pão
B33: 0 | C33: 0
B34: 0 | F34: VE (KJ) | G34: VE (Kcal) | H34: Lip. (g) | I34: AG Sat. (g) | J34: HC (g) | K34: Prot. (g) | L34: Sal (g) | M34: Sal (g)
A35: Sexta-Feira | B35: 0 | C35: =$C$7 -> Sopa
B36: 0 | C36: =$C$8 -> Prato e Vegetais
B37: 0 | C37: =$C$9 -> 0
B38: 0 | C38: =$C$10 -> Sobremesa
B39: 0 | C39: =$C$11 -> Pão
A40: A sua refeição contém ou pode conter as seguintes substâncias ou produtos e seus derivados: (1) Cereais que contêm glúten, (2) Crustáceos, (3) Ovos, (4) Peixes, (5) Amendoins, (6) Soja, (7) Leite, (8) Frutos de casca rija, (9) Aipo, (10) Mostarda, (11) Sementes de sésamo, (12) Dióxido de enxofre e sulfitos, (13) Tremoço, (14) Moluscos. Para quem não é alérgico ou intolerante, estas substâncias ou produtos são completamente inofensivas. Caso necessite informação adicional sobre os produtos em causa deve solicitar aos funcionários. Declaração nutricional: valores por dose, calculados a partir dos valores médios conhecidos dos ingredientes utilizados, segundo o Instituto Nacional de Saúde Dr. Ricardo Jorge, Tabela da Composição de Alimentos (2007), e a informação disponibilizada pelos fornecedores. Legenda: VE - Valor energético, Líp. - Lípidos, AG Sat. - Ácidos Gordos Saturados, HC - Hidratos de Carbono, Prot. - Proteínas.
B41: 0 | C41: Semana 1 | E41: ='Ementas Geral 1ºP 21-22'!E41 -> 13 a 17 de setembro
B42: 0 | F42: VE (KJ) | G42: VE (Kcal) | H42: Lip. (g) | I42: AG Sat. (g) | J42: HC (g) | K42: Prot. (g) | L42: Sal (g) | M42: Açúcar (g)
...

Sheet FTSOPAS
D2: FICHAS TÉCNICAS SOPAS
E4: Capitações (g/ ml)
A6: Nº | B6: Nome | D6: Ingredientes | E6: JI | F6: 1.º CEB | G6: 2.º e 3.º CEB | H6: Sec. | J6: Preparação/Confeção
A8: S1 | B8: Macedónia de legumes | D8: Batata p/ sopa / Flocos de batata p/ sopa | E8: 40.0/ 8.0 | F8: 40.0/ 8.0 | G8: 50.0/ 10.0 | H8: 50.0/ 10.0 | J8: Lavar, descascar e cortar a batata, a cebola, a cenoura e o alho e colocar a cozer metade da quantidade de cenoura, metade da quantidade de ervilha e os restantes ingredientes. Depois de cozido triturar e adicionar o feijão-verde, a restante quantidade de ervilha e a restante quantidade de cenoura previamente cortada em porções pequenas. Deixar cozer, retificar o tempero e no final adicionar o azeite. Nota: A utilização de flocos de batata destina-se somente à preparação das sopas da ementa mediterrânica, devendo para as ementas vegetarianas ser utilizada batata em natureza.
D9: Cenoura p/ sopa não base | E9: 60 | F9: 60 | G9: 80 | H9: 80
D10: Cebola p/ sopa não base | E10: 40 | F10: 40 | G10: 50 | H10: 50
D11: Alho seco | E11: 1.2 | F11: 1.5 | G11: 2 | H11: 2
D12: Feijão verde p/ sopa não base | E12: 40 | F12: 40 | G12: 60 | H12: 60
D13: Ervilhas p/ sopa não base | E13: 20 | F13: 20 | G13: 20 | H13: 20
D14: Azeite p/ sopa | E14: 1 | F14: 1 | G14: 1 | H14: 1
D15: Sal | E15: 0.1 | F15: 0.1 | G15: 0.2 | H15: 0.2
A31: Nº | B31: Nome | D31: Ingredientes | E31: JI | F31: 1.º CEB | G31: 2.º e 3.º CEB | H31: Sec. | J31: Preparação/Confeção
A33: S2 | B33: Creme de abóbora com: - ervilhas; ou - alface; ou - brócolos | D33: Batata p/ sopa / Flocos de batata p/ sopa | E33: 40.0/ 8.0 | F33: 40.0/ 8.0 | G33: 50.0/ 10.0 | H33: 50.0/ 10.0 | J33: Lavar e descascar a batata, a abóbora, o alho e a cebola. Numa panela colocar a água com a batata, a abóbora, o alho e a cebola. Deixar cozer. Triturar a base da sopa. Juntar as ervilhas / alface / brócolos e deixar cozer. No final da cozedura, voltar a triturar, retificar o tempero e adicionar o azeite. Nota: A utilização de flocos de batata destina-se somente à preparação das sopas da ementa mediterrânica, devendo para as ementas vegetarianas ser utilizada batata em natureza.
D34: Abóbora p/ sopa base | E34: 60 | F34: 60 | G34: 60 | H34: 60
D35: Cebola p/ sopa não base | E35: 40 | F35: 40 | G35: 50 | H35: 50
D36: Alho seco | E36: 1.2 | F36: 1.5 | G36: 2 | H36: 2
D37: Azeite p/ sopa | E37: 1 | F37: 1 | G37: 1 | H37: 1
D38: Sal | E38: 0.1 | F38: 0.1 | G38: 0.2 | H38: 0.2
D40: Se:
D41: Ervilhas p/ sopa não base | E41: 20 | F41: 20 | G41: 20 | H41: 20
D42: Alface p/ sopa não base | E42: 30 | F42: 30 | G42: 50 | H42: 50
D43: Brócolos p/ sopa não base | E43: 60 | F43: 60 | G43: 100 | H43: 100
A56: Nº | B56: Nome | D56: Ingredientes | E56: JI | F56: 1.º CEB | G56: 2.º e 3.º CEB | H56: Sec. | J56: Preparação/Confeção
A58: S3 | B58: Couve branca com cenoura ripada | D58: Batata p/ sopa / Flocos de batata p/ sopa | E58: 40.0/ 8.0 | F58: 40.0/ 8.0 | G58: 50.0/ 10.0 | H58: 50.0/ 10.0 | J58: Lavar, descascar e cortar metade da quantidade de cenoura, a batata, a cebola e o alho. Colocar tudo numa panela e deixar cozer. Depois de cozido reduzir tudo a puré e adicionar a restante cenoura (ripada), a couve branca (em juliana) e deixar cozer. Retificar o tempero e no final adicionar o azeite. Nota: A utilização de flocos de batata destina-se somente à preparação das sopas da ementa mediterrânica, devendo para as ementas vegetarianas ser utilizada batata em natureza.
D59: Cenoura p/ sopa não base | E59: 60 | F59: 60 | G59: 80 | H59: 80
D60: Cebola p/ sopa não base | E60: 40 | F60: 40 | G60: 50 | H60: 50
D61: Alho seco | E61: 1.2 | F61: 1.5 | G61: 2 | H61: 2
D62: Couve branca p/ sopa não base | E62: 80 | F62: 80 | G62: 100 | H62: 100
D63: Azeite p/ sopa | E63: 1 | F63: 1 | G63: 1 | H63: 1
D64: Sal | E64: 0.1 | F64: 0.1 | G64: 0.2 | H64: 0.2
A81: Nº | B81: Nome | D81: Ingredientes | E81: JI | F81: 1.º CEB | G81: 2.º e 3.º CEB | H81: Sec. | J81: Preparação/Confeção
A83: S4 | B83: Nabo com cenoura e: - Couve-lombarda; ou - Couve branca | D83: Batata p/ sopa / Flocos de batata p/ sopa | E83: 40.0/ 8.0 | F83: 40.0/ 8.0 | G83: 50.0/ 10.0 | H83: 50.0/ 10.0 | J83: Lavar, descascar e cortar a batata, a cenoura, a cebola, o nabo e o alho e preparar a couve-lombarda / couve branca cortada em juliana. Cozer a batata, a cebola, o nabo, metade da quantidade de cenoura e o alho em água. Depois de cozido reduzir tudo a puré e acrescentar a couve-lombarda / couve branca e a restante cenoura aos cubos e deixar cozer. Retificar o tempero e juntar o azeite no final da cozedura. Nota: A utilização de flocos de batata destina-se somente à preparação das sopas da ementa mediterrânica, devendo para as ementas vegetarianas ser utilizada batata em natureza.
D84: Cenoura p/ sopa não base | E84: 60 | F84: 60 | G84: 80 | H84: 80
D85: Cebola p/ sopa não base | E85: 40 | F85: 40 | G85: 50 | H85: 50
D86: Alho seco | E86: 1.2 | F86: 1.5 | G86: 2 | H86: 2
D87: Nabo p/ sopa não base | E87: 80 | F87: 80 | G87: 120 | H87: 120
D88: Azeite p/ sopa | E88: 1 | F88: 1 | G88: 1 | H88: 1
D89: Sal | E89: 0.1 | F89: 0.1 | G89: 0.2 | H89: 0.2
D91: Se:
D92: Couve-lombarda p/ sopa não base | E92: 60 | F92: 60 | G92: 90 | H92: 90
...

Sheet FTPEIXE
D3: FICHAS TÉCNICAS PRATOS PEIXE
E5: Capitações (g/ ml)
A7: Nº | B7: Nome | D7: Ingredientes | E7: JI | F7: 1.º CEB | G7: 2.º e 3.º CEB | H7: Sec. | J7: Preparação/Confeção
A9: P1 | B9: Filetes de pescada dourados / panados no forno | D9: Peixe em filete/lombo | E9: 85 | F9: 100 | G9: 130 | H9: 140 | J9: Após descongelar os filetes em temperatura de refrigeração, temperar com sal, alho, sumo de limão, orégãos, de preferência de véspera. Se dourados: No dia panar os filetes de pescada com farinha e ovo e fritar em óleo. Se panados: No dia panar os filetes de pescada com farinha, ovo e posteriormente pão ralado e levar ao forno a confecionar.
D10: Sumo de limão | E10: q.b. | F10: q.b. | G10: q.b. | H10: q.b.
D11: Orégãos | E11: 0.1 | F11: 0.1 | G11: 0.1 | H11: 0.1
D12: Alho seco | E12: 1.2 | F12: 1.5 | G12: 2 | H12: 2
D13: Sal p/ conduto | E13: 0.1 | F13: 0.1 | G13: 0.1 | H13: 0.1
D15: Se dourados:
D16: Farinha de trigo | E16: q.b. | F16: q.b. | G16: q.b. | H16: q.b.
D17: Ovo pasteurizado inteiro líquido | E17: 5 | F17: 5 | G17: 5 | H17: 5
D18: Óleo vegetal | E18: 3 | F18: 5 | G18: 7 | H18: 9
D20: Se panados:
D21: Farinha de trigo | E21: q.b. | F21: q.b. | G21: q.b. | H21: q.b.
D22: Ovo pasteurizado inteiro líquido | E22: 5 | F22: 5 | G22: 5 | H22: 5
D23: Pão ralado | E23: q.b. | F23: q.b. | G23: q.b. | H23: q.b.
A32: Nº | B32: Nome | D32: Ingredientes | E32: JI | F32: 1.º CEB | G32: 2.º e 3.º CEB | H32: Sec. | J32: Preparação/Confeção
A34: P2 | B34: Pescada/Palmeta/Solha dourada | D34: Peixe inteiro s/ cabeça | E34: 100 | F34: 105 | G34: 135 | H34: 145 | J34: De véspera, limpar, preparar e temperar o peixe com as ervas aromáticas, o sumo de limão, o alho e o sal. No dia, aquecer o óleo e passar o peixe por farinha e colocar no fritar em óleo. Retirar quando atingir a temperatura de confeção.
D35: Sumo de limão | E35: q.b. | F35: q.b. | G35: q.b. | H35: q.b.
D36: Orégãos | E36: 0.1 | F36: 0.1 | G36: 0.1 | H36: 0.1
D37: Alho seco | E37: 1.2 | F37: 1.5 | G37: 2 | H37: 2
D38: Salsa | E38: 0.8 | F38: 1.3 | G38: 1.3 | H38: 1.3
D39: Farinha de trigo | E39: q.b. | F39: q.b. | G39: q.b. | H39: q.b.
D40: Óleo vegetal | E40: 3 | F40: 5 | G40: 7 | H40: 9
D41: Sal p/ conduto | E41: 0.1 | F41: 0.1 | G41: 0.1 | H41: 0.1
A57: Nº | B57: Nome | D57: Ingredientes | E57: JI | F57: 1.º CEB | G57: 2.º e 3.º CEB | H57: Sec. | J57: Preparação/Confeção
A59: P3 | B59: Peixe gratinado (posta/filete) | D59: Peixe inteiro s/ cabeça | E59: 100 | F59: 105 | G59: 135 | H59: 145 | J59: Limpar, preparar, cortar às postas e temperar o peixe com sal, sumo de limão, alho e ervas aromáticas, de preferência de véspera. Num tabuleiro colocar o peixe, regar com o azeite e as restantes ervas aromáticas e alho e levar ao forno a gratinar. No final salpicar com a salsa, previamente picada, lavada e desinfetada.
D60: Peixe inteiro c/ cabeça | E60: 120 | F60: 130 | G60: 165 | H60: 175
D61: Peixe em filete/lombo | E61: 85 | F61: 100 | G61: 130 | H61: 140
D62: Sumo de limão | E62: q.b. | F62: q.b. | G62: q.b. | H62: q.b.
D63: Alho seco | E63: 1.2 | F63: 1.5 | G63: 2 | H63: 2
D64: Orégãos | E64: 0.1 | F64: 0.1 | G64: 0.1 | H64: 0.1
D65: Salsa | E65: 0.8 | F65: 1.3 | G65: 1.3 | H65: 1.3
D66: Azeite | E66: 2 | F66: 3 | G66: 4 | H66: 6
D67: Sal p/ conduto | E67: 0.1 | F67: 0.1 | G67: 0.1 | H67: 0.1
A82: Nº | B82: Nome | D82: Ingredientes | E82: JI | F82: 1.º CEB | G82: 2.º e 3.º CEB | H82: Sec. | J82: Preparação/Confeção
A84: P4 | B84: Meia desfeita de bacalhau | D84: Bacalhau migas (salgado seco) | E84: 40 | F84: 50 | G84: 60 | H84: 70 | J84: De véspera, demolhar o grão-de-bico. No dia cozer o grão-de-bico e as migas de bacalhau previamente demolhadas. Cortar o ovo em rodelas. Juntar o bacalhau, o ovo e o grão-de-bico. Picar o alho, a cebola e a salsa. Juntar parte do azeite e levar ao forno a reaquecer até atingir pelo menos 75ºC. Colocar os temperos (mistura de salsa, alho, cebola, vinagre e azeite) à parte.
D85: Grão -de-bico seco | E85: 20 | F85: 30 | G85: 40 | H85: 50
D86: Cebola | E86: 25 | F86: 25 | G86: 25 | H86: 25
D87: Ovo cozido pasteurizado | E87: 30 | F87: 35 | G87: 45 | H87: 50
...

Sheet FTPRATOS CARNE
D3: FICHAS TÉCNICAS PRATOS CARNE
E5: Capitações (g/ ml)
A7: Nº | B7: Nome | D7: Ingredientes | E7: JI | F7: 1.º CEB | G7: 2.º e 3.º CEB | H7: Sec. | J7: Preparação/Confeção
A9: C1 | B9: Bife de frango/porco de tomatada | D9: Bife de frango Bife de porco | E9: 85.0 90.0 | F9: 90.0 100.0 | G9: 120.0 130.0 | H9: 130.0 140.0 | J9: Cortar os bifes de frango/porco e temperar com sal, alho esmagado, alecrim e orégãos. Estufar a cenoura cortada às rodelas, o tomate cortado aos pedaços e a cebola cortada às meias-luas. Adicionar os bifes de frango/porco ao estufado e levar ao lume anterior ou dispô-los em tabuleiros, regar com o estufado e levar ao forno convetor.
D10: Cenoura | E10: 50 | F10: 50 | G10: 80 | H10: 80
D11: Tomate p/ estufados | E11: 25 | F11: 25 | G11: 25 | H11: 25
D12: Cebola p/ estufados | E12: 25 | F12: 25 | G12: 25 | H12: 25
D13: Azeite | E13: 2 | F13: 3 | G13: 4 | H13: 6
D14: Sal p/ conduto | E14: 0.1 | F14: 0.1 | G14: 0.1 | H14: 0.1
D15: Alho seco | E15: 1.2 | F15: 1.5 | G15: 2 | H15: 2
D16: Alecrim | E16: 0.1 | F16: 0.1 | G16: 0.1 | H16: 0.1
D17: Orégãos | E17: 0.1 | F17: 0.1 | G17: 0.1 | H17: 0.1
A32: Nº | B32: Nome | D32: Ingredientes | E32: JI | F32: 1.º CEB | G32: 2.º e 3.º CEB | H32: Sec. | J32: Preparação/Confeção
A34: C2 | B34: Rancho (porco e vaca) | D34: Grão de bico | E34: 20 | F34: 30 | G34: 40 | H34: 50 | J34: De véspera colocar o grão-de-bico a demolhar. Cortar as carnes aos cubos e temperar com sumo de limão, louro e sal. No dia, preparar a cenoura aos cubos e a couve-lombarda em gomos. Cozer o grão-de-bico em água e sal. Estufar as carnes, com a cenoura, a couve-lombarda, azeite, cebola picada, alho, louro e tomate. Num tacho à parte cozer a massa. Após cozedura do estufado acrescentar ao preparado o grão-de-bico, a água onde cozeu o grão-de-bico, a massa e chouriço, previamente cozido e cortado às rodelas, e deixar apurar.
D35: Carne de vaca p/ feijoada/rancho | E35: 30 | F35: 40 | G35: 50 | H35: 65
D36: Carne de porco p/ feijoada/rancho | E36: 30 | F36: 40 | G36: 50 | H36: 65
D37: Couve-lombarda | E37: 25 | F37: 35 | G37: 45 | H37: 55
D38: Massa | E38: 10 | F38: 15 | G38: 20 | H38: 30
D39: Cenoura | E39: 25 | F39: 25 | G39: 40 | H39: 40
D40: Tomate p/ estufados | E40: 25 | F40: 25 | G40: 25 | H40: 25
D41: Cebola p/ estufados | E41: 25 | F41: 25 | G41: 25 | H41: 25
D42: Chouriço de carne | E42: 0 | F42: 10 | G42: 10 | H42: 10
D43: Azeite p/ prato | E43: 3 | F43: 5 | G43: 7 | H43: 9
D44: Sal p/ prato | E44: 0.2 | F44: 0.2 | G44: 0.2 | H44: 0.2
D45: Sumo de limão | E45: q.b. | F45: q.b. | G45: q.b. | H45: q.b.
D46: Alho seco | E46: 1.2 | F46: 1.5 | G46: 2 | H46: 2
D47: Louro | E47: 0.1 | F47: 0.1 | G47: 0.1 | H47: 0.1
A57: Nº | B57: Nome | D57: Ingredientes | E57: JI | F57: 1.º CEB | G57: 2.º e 3.º CEB | H57: Sec. | J57: Preparação/Confeção
A59: C3 | B59: Carne à Bolonhesa | D59: Carne de vaca picada | E59: 85 | F59: 90 | G59: 120 | H59: 130 | J59: Lavar e picar a cebola, o alho e a salsa e o tomate. Estufar os ingredientes referidos com azeite. Adicionar a carne picada, os orégãos e parte do sal. Levar a lume brando o preparado até o fim a cozedura. No final retificar o tempero.
D60: Tomate p/ estufados | E60: 25 | F60: 25 | G60: 25 | H60: 25
D61: Cebola p/ estufados | E61: 25 | F61: 25 | G61: 25 | H61: 25
D62: Azeite | E62: 2 | F62: 3 | G62: 4 | H62: 6
D63: Sal p/ conduto | E63: 0.1 | F63: 0.1 | G63: 0.1 | H63: 0.1
D64: Salsa | E64: 0.1 | F64: 0.1 | G64: 0.1 | H64: 0.1
D65: Alho seco | E65: 1.2 | F65: 1.5 | G65: 2 | H65: 2
D66: Orégãos | E66: 0.1 | F66: 0.1 | G66: 0.1 | H66: 0.1
A82: Nº | B82: Nome | D82: Ingredientes | E82: JI | F82: 1.º CEB | G82: 2.º e 3.º CEB | H82: Sec. | J82: Preparação/Confeção
A84: C4 | B84: Perna de peru estufada | D84: Perna de peru | E84: 115 | F84: 120 | G84: 160 | H84: 170 | J84: De véspera limpar e cortar a carne em peças e temperar com sal, sumo de limão, alho orégãos e alecrim. No dia, lavar e picar a cebola, o alho, a salsa e cortar o tomate em pedaços pequenos. Estufar os ingredientes com azeite e adicionar a carne ao preparado, em lume médio e deixar cozer até final da cozedura.
D85: Tomate p/ estufados | E85: 25 | F85: 25 | G85: 25 | H85: 25
D86: Cebola p/ estufados | E86: 25 | F86: 25 | G86: 25 | H86: 25
...

Sheet FTPRATOS VEG
D4: FICHAS TÉCNICAS PRATOS VEGETARIANOS
A6: Nº | B6: Nome | D6: Ingredientes | E6: JI | F6: 1.º CEB | G6: 2.º e 3.º CEB | H6: Sec. | J6: Preparação/Confeção
A8: V1 | B8: Empadão de lentilhas/soja | D8: Lentilhas Soja fina | E8: 40.0 40.0 | F8: 50.0 50.0 | G8: 60.0 60.0 | H8: 80.0 80.0 | J8: Deixar as lentilhas a demolhar no dia anterior. Hidratar a soja (caso se aplique). No dia, cozer as lentilhas em água (ou a vapor) com sal. Estufar as lentilhas ou a soja, com tomate, cebola, louro, orégãos e cenoura (previamente cozida aos cubinhos) e azeite. Num tabuleiro dispor alternadamente camadas de puré de batata (feito de acordo com as indicações referidas nas fichas técnicas dos acompanhamentos - puré vegan) e lentilhas/soja e levar ao forno a alourar.
D9: Cenoura | E9: 50 | F9: 50 | G9: 80 | H9: 80
D10: Tomate p/ estufados | E10: 25 | F10: 25 | G10: 25 | H10: 25
D11: Cebola p/ estufados | E11: 25 | F11: 25 | G11: 25 | H11: 25
D12: Âzeite p/ prato | E12: 3 | F12: 5 | G12: 7 | H12: 9
D13: Sal p/ prato | E13: 0.2 | F13: 0.2 | G13: 0.2 | H13: 0.2
D14: Louro | E14: 0.1 | F14: 0.1 | G14: 0.1 | H14: 0.1
D15: Orégãos | E15: 0.1 | F15: 0.1 | G15: 0.1 | H15: 0.1
A31: Nº | B31: Nome | D31: Ingredientes | E31: JI | F31: 1.º CEB | G31: 2.º e 3.º CEB | H31: Sec. | J31: Preparação/Confeção
A33: V2 | B33: Empadão de soja com feijão vermelho/ervilha | D33: Soja fina | E33: 30 | F33: 40 | G33: 50 | H33: 60 | J33: Deixar o feijão vermelho a demolhar no dia anterior. Hidratar a soja. No dia, cozer o feijão/ervilhas em água (ou a vapor) com sal. Estufar a soja com feijão/ervilhas, previamente escorrido, com tomate, cebola, louro, orégãos e cenoura (previamente cozida aos cubinhos) e azeite. Num tabuleiro dispor alternadamente camadas de puré de batata (feito de acordo com as indicações referidas nas fichas técnicas dos acompanhamentos - puré vegan) e soja com feijão/ervilhas e levar ao forno a alourar.
D34: Feijão vermelho Ervilhas | E34: 5.0 20.0 | F34: 10.0 20.0 | G34: 15.0 30.0 | H34: 15.0 30.0
D35: Cenoura | E35: 50 | F35: 50 | G35: 80 | H35: 80
D36: Tomate p/ estufados | E36: 25 | F36: 25 | G36: 25 | H36: 25
D37: Cebola p/ estufados | E37: 25 | F37: 25 | G37: 25 | H37: 25
D38: Âzeite p/ prato | E38: 3 | F38: 5 | G38: 7 | H38: 9
D39: Sal p/ prato | E39: 0.2 | F39: 0.2 | G39: 0.2 | H39: 0.2
D40: Louro | E40: 0.1 | F40: 0.1 | G40: 0.1 | H40: 0.1
D41: Orégãos | E41: 0.1 | F41: 0.1 | G41: 0.1 | H41: 0.1
A56: Nº | B56: Nome | D56: Ingredientes | E56: JI | F56: 1.º CEB | G56: 2.º e 3.º CEB | H56: Sec. | J56: Preparação/Confeção
A58: V3 | B58: Soja à Gomes de Sá | D58: Batata | E58: 80 | F58: 100 | G58: 120 | H58: 140 | J58: Hidratar a soja. Cortar as cebolas e os alhos às rodelas e alourar ligeiramente com um pouco de azeite. Estufar a soja. Num tabuleiro colocar as batatas (ás rodelas), a soja e a cebola. Mexer tudo ligeiramente. Colocar o preparado num tabuleiro. Levar ao forno bem quente e servir com azeitonas pretas e salsa picada, previamente lavada e desinfetada.
D59: Soja grossa | E59: 40 | F59: 50 | G59: 60 | H59: 80
D60: Cebola p/ estufados | E60: 25 | F60: 25 | G60: 25 | H60: 25
D61: Azeitonas pretas | E61: 0 | F61: 6 | G61: 6 | H61: 6 | I61: 25
D62: Âzeite p/ prato | E62: 3 | F62: 5 | G62: 7 | H62: 9
D63: Sal p/ prato | E63: 0.2 | F63: 0.2 | G63: 0.2 | H63: 0.2
D64: Salsa | E64: 0.8 | F64: 1.3 | G64: 1.3 | H64: 1.3
D65: Alho seco | E65: 1.2 | F65: 1.5 | G65: 2 | H65: 2
A81: Nº | B81: Nome | D81: Ingredientes | E81: JI | F81: 1.º CEB | G81: 2.º e 3.º CEB | H81: Sec. | J81: Preparação/Confeção
A83: V4 | B83: Batatas com lentilhas, legumes e broa no forno | D83: Batata | E83: 80 | F83: 100 | G83: 120 | H83: 140 | J83: Cozer as lentilhas em água e sal (previamente demolhadas).Triturar a broa com salsa. Cortar e cozer a couve flor e a cenoura de preferência a vapor. Estufar a cebola, o azeite, o alho picado e a folha de louro, e juntar as lentilhas e os legumes. Descascar as batatas, cortar em rodelas finas e cozer de preferência a vapor. Dispor num tabuleiro as batatas, o preparado de lentilhas e por cima polvilhar com o picado de broa de milho e salsa. Regar com o restante azeite e levar ao forno.
D84: Lentilhas | E84: 40 | F84: 50 | G84: 60 | H84: 80
D85: Cenoura | E85: 25 | F85: 25 | G85: 40 | H85: 40
D86: Couve flor | E86: 25 | F86: 30 | G86: 40 | H86: 50
D87: Cebola p/ assados | E87: 25 | F87: 25 | G87: 25 | H87: 25
D88: Âzeite p/ prato | E88: 3 | F88: 5 | G88: 7 | H88: 9
D89: Sal p/ prato | E89: 0.2 | F89: 0.2 | G89: 0.2 | H89: 0.2
D90: Broa de milho | E90: 10 | F90: 10 | G90: 20 | H90: 20
D91: Sumo de limão | E91: q.b. | F91: q.b. | G91: q.b. | H91: q.b.
D92: Salsa | E92: 0.8 | F92: 1.3 | G92: 1.3 | H92: 1.3
...

Sheet FTACOMPANHAMENTOS
D4: FICHAS TÉCNICAS ACOMPANHAMENTOS
A7: Nº | B7: Nome | D7: Ingredientes | E7: JI | F7: 1.º CEB | G7: 2.º e 3.º CEB | H7: Sec. | J7: Preparação/Confeção
A9: AC1 | B9: Puré de batata (c/ batata ou flocos de batata) / Puré de batata vegan | D9: Batatas p/ cozer | E9: 80 | F9: 100 | G9: 120 | H9: 140 | J9: Com batata: Descascar as batatas e cozer em água e sal ou a vapor. Após cozedura passar as batatas pelo passe-vite ou desfazê-las com as varas da varinha. Colocar a batata triturada num tacho ao lume e juntar o leite quente ou a bebida vegetal. Adicionar a noz-moscada, mexer sempre até obter uma consistência mole. Com flocos de batata: Preparar o puré de acordo com as indicações do fornecedor.
D10: Flocos de batata* | E10: 15 | F10: 18 | G10: 20 | H10: 25
D11: Noz moscada | E11: 0.1 | F11: 0.1 | G11: 0.1 | H11: 0.1
D12: Sal p/ guarnição | E12: 0.1 | F12: 0.1 | G12: 0.1 | H12: 0.1
D14: Se puré p/ ementa geral:
D15: Leite para puré | E15: 25 | F15: 25 | G15: 50 | H15: 60
D17: Se puré p/ ementa vegetariana:
D18: Bebida vegetal para puré | E18: 25 | F18: 25 | G18: 50 | H18: 60
A32: Nº | B32: Nome | D32: Ingredientes | E32: JI | F32: 1.º CEB | G32: 2.º e 3.º CEB | H32: Sec. | J32: Preparação/Confeção
A34: AC2 | B34: Batatas assadas | D34: Batatas p/ assar | E34: 80 | F34: 100 | G34: 120 | H34: 140 | J34: Descascar e cortar as batatas em quartos ou aos cubos. Colocar as batatas num tabuleiro e adicionar o sal, a salsa, os orégãos e por fim o azeite. Levar ao forno até cozer ao ponto de ficarem coradas.
D35: Salsa | E35: 0.8 | F35: 1.3 | G35: 1.3 | H35: 1.3
D36: Orégãos | E36: 0.1 | F36: 0.1 | G36: 0.1 | H36: 0.1
D37: Azeite | E37: 1 | F37: 2 | G37: 3 | H37: 3
D38: Sal p/ guarnição | E38: 0.1 | F38: 0.1 | G38: 0.1 | H38: 0.1
A57: Nº | B57: Nome | D57: Ingredientes | E57: JI | F57: 1.º CEB | G57: 2.º e 3.º CEB | H57: Sec. | J57: Preparação/Confeção
A59: AC3 | B59: Batatas cozidas | D59: Batatas p/ cozer | E59: 80 | F59: 100 | G59: 120 | H59: 140 | J59: Descascar e cortar as batatas ao meio, aos gomos ou aos cubos e cozer em água e sal ou em tabuleiros perfurados no forno convetor a vapor (s/ adição de sal).
D60: Sal p/ guarnição | E60: 0.1 | F60: 0.1 | G60: 0.1 | H60: 0.1
A82: Nº | B82: Nome | D82: Ingredientes | E82: JI | F82: 1.º CEB | G82: 2.º e 3.º CEB | H82: Sec. | J82: Preparação/Confeção
A84: AC4 | B84: Batatas coradas / alouradas / loura | D84: Batatas p/ assar | E84: 80 | F84: 100 | G84: 120 | H84: 140 | J84: Descascar e cortar as batatas aos cubos e cozer em água e sal ou em tabuleiro perfurado a vapor. Num tabuleiro liso dispor as batatas e regar com um fio de azeite e polvilhar com orégãos. Levar ao forno e deixar corar.
D85: Orégãos | E85: 0.1 | F85: 0.1 | G85: 0.1 | H85: 0.1
D86: Azeite | E86: 1 | F86: 2 | G86: 3 | H86: 3
D87: Sal p/ guarnição | E87: 0.1 | F87: 0.1 | G87: 0.1 | H87: 0.1
A107: Nº | B107: Nome | D107: Ingredientes | E107: JI | F107: 1.º CEB | G107: 2.º e 3.º CEB | H107: Sec. | J107: Preparação/Confeção
A109: AC5 | B109: Salada: - Russa (batata, cenoura, ervilhas e feijão-verde) - Camponesa (batata, cenoura, ervilhas e milho) | D109: Batatas p/ salada russa | E109: 60 | F109: 80 | G109: 100 | H109: 120 | J109: Descascar e cortar as batatas aos cubos e cozer em água e sal ou no forno convetor em tabuleiro perfurado a vapor. Cozer também as cenouras, o feijão-verde/milho e as ervilhas em água e sal ou em tabuleiro perfurado a vapor. Depois de cozidos todos os legumes envolver com as batatas.
D110: Cenoura p/ salada russa | E110: 60 | F110: 60 | G110: 80 | H110: 80
D111: Ervilhas p/ salada russa | E111: 40 | F111: 40 | G111: 60 | H111: 60
D112: Sal p/ guarnição | E112: 0.1 | F112: 0.1 | G112: 0.1 | H112: 0.1
D114: Se salada russa:
D115: Feijão verde guarnição mista | E115: 40 | F115: 50 | G115: 80 | H115: 100
D117: Se salada camponesa:
D118: Milho guarnição mista | E118: 25 | F118: 25 | G118: 35 | H118: 50
A132: Nº | B132: Nome | D132: Ingredientes | E132: JI | F132: 1.º CEB | G132: 2.º e 3.º CEB | H132: Sec. | J132: Preparação/Confeção
A134: AC6 | B134: Arroz de: - Cenoura; ou - Milho; ou - Ervilhas; ou - Cogumelos; ou - Couve; ou - Tomate | D134: Arroz + leguminosas/hortícolas | E134: 20 | F134: 30 | G134: 40 | H134: 50 | J134: Estufar a cebola e o alho em azeite. Adicionar a cenoura cortada aos cubos ou ralada/milho/ervilhas/cogumelos/couve/tomate. Posteriormente juntar a água e quando estiver a ferver, adicionar o arroz. No final retificar o tempero.
D135: Cebola p/ estufados | E135: 25 | F135: 25 | G135: 25 | H135: 25
D136: Alho seco | E136: 1.2 | F136: 1.5 | G136: 2 | H136: 2
D137: Sal p/ guarnição | E137: 0.1 | F137: 0.1 | G137: 0.1 | H137: 0.1
D139: Se:
D140: Cenoura p/ arroz | E140: 40 | F140: 40 | G140: 60 | H140: 60
...

Sheet FTHORTÍCOLAS
D4: FICHAS TÉCNICAS HORTÍCOLAS
A6: Nº | B6: Nome | D6: Ingredientes | E6: JI | F6: 1.º CEB | G6: 2.º e 3.º CEB | H6: Sec. | J6: Preparação/Confeção
A8: SLD | B8: Salada (3 variedades de hortícolas) | D8: Alface salada mista | E8: 50 | F8: 50 | G8: 100 | H8: 100 | J8: Preparar, lavar e desinfetar o vegetal segundo as indicações do Manual de Segurança Alimentar e da ficha técnica do produto a utilizar. Cortar de acordo com o fim e a população alvo a quem se destina.
D9: Beterraba salada mista | E9: 100 | F9: 120 | G9: 150 | H9: 150
D10: Cenoura salada mista | E10: 40 | F10: 40 | G10: 60 | H10: 60
D11: Couve coração guarnição mista | E11: 50 | F11: 60 | G11: 80 | H11: 100
D12: Couve Roxa p/ salada mista | E12: 60 | F12: 70 | G12: 90 | H12: 100
D13: Curgete guarnição mista | E13: 60 | F13: 70 | G13: 110 | H13: 130
D14: Pepino p/ salada mista | E14: 30 | F14: 30 | G14: 50 | H14: 50
D15: Pimento salada mista | E15: 30 | F15: 30 | G15: 50 | H15: 50
D16: Tomate p/ salada mista | E16: 30 | F16: 30 | G16: 60 | H16: 60
A31: Nº | B31: Nome | D31: Ingredientes | E31: JI | F31: 1.º CEB | G31: 2.º e 3.º CEB | H31: Sec. | J31: Preparação/Confeção
A33: LEG1 | B33: Legumes cozidos: - Couve-lombarda - Brócolos - Couve-flor - Cenoura / cenoura baby - Ervilhas - Feijão-verde - Couves-de-Bruxelas - Milho | D33: Couve-lombarda guarnição mista | E33: 50 | F33: 70 | G33: 90 | H33: 110 | J33: Levar água num tacho ao lume até ferver. Posteriormente adicionar o(s) legume(s) mencionados na ementa e previamente lavados e cortados, quando aplicável, adicionar parte do sal OU levar o(s) legume(s) em tabuleiro perfurado ao forno convetor e colocar no módulo de cozedura a vapor, sem adicionar sal. Deixar cozer. No final retificar o tempero.
D34: Brócolos guarnição mista | E34: 45 | F34: 60 | G34: 80 | H34: 100
D35: Couve-flor guarnição mista | E35: 45 | F35: 60 | G35: 80 | H35: 100
D36: Cenoura / cenoura baby guarnição mista | E36: 50 | F36: 50 | G36: 80 | H36: 80
D37: Ervilhas guarnição mista | E37: 40 | F37: 40 | G37: 60 | H37: 60
D38: Feijão-verde guarnição mista | E38: 40 | F38: 50 | G38: 80 | H38: 100
D39: Couves-de-Bruxelas guarnição mista | E39: 60 | F39: 75 | G39: 100 | H39: 125
D40: Milho guarnição mista | E40: 25 | F40: 25 | G40: 35 | H40: 50
D41: Sal | E41: 0.1 | F41: 0.1 | G41: 0.1 | H41: 0.1
A56: Nº | B56: Nome | D56: Ingredientes | E56: JI | F56: 1.º CEB | G56: 2.º e 3.º CEB | H56: Sec. | J56: Preparação/Confeção
A58: LEG2 | B58: Estufado de legumes: - Brócolos - Cenoura - Tomate - Feijão-verde - Cogumelos - Ervilhas | D58: Brócolos guarnição mista | E58: 30 | F58: 40 | G58: 50 | H58: 60 | J58: Levar água num tacho ao lume até ferver. Posteriormente adicionar o(s) legume(s) de acordo com a ementa e adicionar parte do sal e deixar cozer OU levar o(s) legume(s) em tabuleiro perfurado ao forno convetor e colocar no módulo de cozedura a vapor, sem adicionar sal. Deixar cozer. Num tacho à parte colocar cebola, alho e o(s) respetivo(s) legume(s), adicionar o azeite e levar ao lume a estufar. No final retificar o tempero.
D59: Cenoura guarnição mista | E59: 25 | F59: 25 | G59: 40 | H59: 40
D60: Tomate p/ estufados | E60: 25 | F60: 25 | G60: 25 | H60: 25
D61: Feijão-verde guarnição mista | E61: 30 | F61: 40 | G61: 50 | H61: 60
D62: Cogumelos guarnição mista | E62: 25 | F62: 30 | G62: 35 | H62: 40
D63: Ervilhas guarnição mista | E63: 25 | F63: 25 | G63: 35 | H63: 35
D64: Cebola p/ estufados | E64: 25 | F64: 25 | G64: 25 | H64: 25
D65: Alho seco | E65: 1.2 | F65: 1.5 | G65: 2 | H65: 2
D66: Sal | E66: 0.1 | F66: 0.1 | G66: 0.1 | H66: 0.1
A81: Nº | B81: Nome | D81: Ingredientes | E81: JI | F81: 1.º CEB | G81: 2.º e 3.º CEB | H81: Sec. | J81: Preparação/Confeção
A83: LEG3 | B83: Macedónia de legumes (Feijão verde, ervilhas e cenoura) | D83: Cenoura p/ salada russa | E83: 60 | F83: 60 | G83: 80 | H83: 80 | J83: Levar água num tacho ao lume até ferver. Posteriormente adicionar os legumes mencionados e adicionar parte do sal e deixar cozer OU levar os legumes em tabuleiro perfurado ao forno convetor e colocar no módulo de cozedura a vapor, sem adicionar sal. Deixar cozer. No final retificar o tempero. Servir e temperar com azeite.
D84: Ervilhas p/ salada russa | E84: 40 | F84: 40 | G84: 60 | H84: 60
D85: Feijão verde guarnição mista | E85: 40 | F85: 50 | G85: 80 | H85: 100
D86: Azeite | E86: 1 | F86: 2 | G86: 3 | H86: 3
D87: Sal | E87: 0.1 | F87: 0.1 | G87: 0.1 | H87: 0.1

Sheet FTSOBREMESAS
D4: FICHAS TÉCNICAS FRUTA/SOBREMESAS
A6: Nº | B6: Nome | D6: Ingredientes | E6: JI | F6: 1.º CEB | G6: 2.º e 3.º CEB | H6: Sec. | J6: Preparação/Confeção
A8: SOB1 | B8: Gelatina com frutas | D8: Gelatina em pó | E8: 8.5 | F8: 8.5 | G8: 17 | H8: 17 | J8: Preparar a gelatina de acordo com as indicações do fornecedor. Colocar a gelatina no frigorífico. Dispor pedaços pequenos de fruta (abacaxi e laranja), previamente lavados, descascados e cortados, por cima da gelatina.
D9: Abacaxi | E9: 10 | F9: 10 | G9: 20 | H9: 20
D10: Laranja | E10: 20 | F10: 20 | G10: 40 | H10: 40
D11: Água | E11: 75 | F11: 75 | G11: 150 | H11: 150
A31: Nº | B31: Nome | D31: Ingredientes | E31: JI | F31: 1.º CEB | G31: 2.º e 3.º CEB | H31: Sec. | J31: Preparação/Confeção
A33: SOB2 | B33: Leite-creme | D33: Açúcar Branco | E33: 4 | F33: 4 | G33: 6 | H33: 6 | J33: Colocar parte do leite ao lume, juntamente com o pau de canela e as cascas de limão, até ferver. À parte, juntar o açúcar com as gemas. Verter sobre o preparado anterior o restante leite frio, aos poucos, e mexendo sempre, seguidamente adicionar o leite quente. Levar ao lume, sem parar de mexer, até engrossar. Tirar o preparado do calor e eliminar a canela e as cascas de limão. Colocar de seguida nas taças e deixar arrefecer no frigorífico. Decorar com canela em pó.
D34: Leite de vaca MG | E34: 50 | F34: 50 | G34: 125 | H34: 125
D35: Gema de ovo pasteurizado líquida | E35: 6 | F35: 6 | G35: 15 | H35: 15
D36: Canela em pó | E36: 0.1 | F36: 0.1 | G36: 0.1 | H36: 0.1
D37: Casca de limão | E37: q.b. | F37: q.b. | G37: q.b. | H37: q.b.
D38: Pau de canela | E38: q.b. | F38: q.b. | G38: q.b. | H38: q.b.
A56: Nº | B56: Nome | D56: Ingredientes | E56: JI | F56: 1.º CEB | G56: 2.º e 3.º CEB | H56: Sec. | J56: Preparação/Confeção
A58: SOB3 | B58: Arroz doce | D58: Arroz p/ Arroz Doce | E58: 20 | F58: 20 | G58: 25 | H58: 25 | J58: Lavar e escorrer o arroz levando-o, seguidamente, a cozer em leite (juntamente com a casca de limão, o pau de canela e o açúcar). Deixar ferver em lume brando, mexendo sempre. Quando o leite estiver reduzido, retirar o arroz do lume. Colocar de seguida nas taças e deixar arrefecer no frigorífico. Decorar com canela em pó.
D59: Leite de vaca MG | E59: 50 | F59: 50 | G59: 125 | H59: 125
D60: Açúcar Branco | E60: 4 | F60: 4 | G60: 6 | H60: 6
D61: Canela em pó | E61: 0.1 | F61: 0.1 | G61: 0.1 | H61: 0.1
D62: Casca de limão | E62: q.b. | F62: q.b. | G62: q.b. | H62: q.b.
D63: Pau de canela | E63: q.b. | F63: q.b. | G63: q.b. | H63: q.b.
A81: Nº | B81: Nome | D81: Ingredientes | E81: JI | F81: 1.º CEB | G81: 2.º e 3.º CEB | H81: Sec. | J81: Preparação/Confeção
A83: SOB4 | B83: Aletria | D83: Massa | E83: 10 | F83: 15 | G83: 20 | H83: 30 | J83: Levar a massa a cozer em leite (juntamente com a casca de limão, o pau de canela e o açúcar). Deixar ferver em lume brando, mexendo sempre. Quando o leite estiver reduzido, retirar a massa do lume. Colocar de seguida nas taças e deixar arrefecer no frigorífico. Decorar com canela em pó.
D84: Leite de vaca MG | E84: 50 | F84: 50 | G84: 125 | H84: 125
D85: Açúcar Branco | E85: 4 | F85: 4 | G85: 6 | H85: 6
D86: Canela em pó | E86: 0.1 | F86: 0.1 | G86: 0.1 | H86: 0.1
D87: Casca de limão | E87: q.b. | F87: q.b. | G87: q.b. | H87: q.b.
D88: Pau de canela | E88: q.b. | F88: q.b. | G88: q.b. | H88: q.b.
A106: Nº | B106: Nome | D106: Ingredientes | E106: JI | F106: 1.º CEB | G106: 2.º e 3.º CEB | H106: Sec. | J106: Preparação/Confeção
A108: SOB5 | B108: Iogurte | D108: Iogurte | E108: 125 | F108: 125 | G108: 125 | H108: 125
A131: Nº | B131: Nome | D131: Ingredientes | E131: JI | F131: 1.º CEB | G131: 2.º e 3.º CEB | H131: Sec. | J131: Preparação/Confeção
A133: SOB6 | B133: Pudim | D133: Açúcar Branco | E133: 4 | F133: 4 | G133: 6 | H133: 6 | J133: Ferver o leite com a casca de laranja. Colocar o ovo numa tigela, juntar parte do açúcar e misturar bem, sem bater. Adicionar o leite já morno e misturar. Levar o restante açúcar ao lume até atingir o ponto de caramelo e colocá-lo numa forma de pudim de forma a cobrir a mesma. Adicionar o preparado e levar ao forno, em banho-maria, até cozer. Depois de cozido, retirar o pudim do forno e deixar arrefecer totalmente antes de o desenformar.
D134: Leite de vaca MG | E134: 50 | F134: 50 | G134: 125 | H134: 125
D135: Ovo pasteurizado inteiro líquido | E135: 28 | F135: 28 | G135: 70 | H135: 70
D136: Casca de laranja | E136: q.b. | F136: q.b. | G136: q.b. | H136: q.b.
A156: Nº | B156: Nome | D156: Ingredientes | E156: JI | F156: 1.º CEB | G156: 2.º e 3.º CEB | H156: Sec. | J156: Preparação/Confeção
A158: SOB7 | B158: Fruta assada (maçã ou pera) | D158: Maçã | E158: 80 | F158: 80 | G158: 160 | H158: 160 | J158: Lavar e retirar a parte central (caroço e sementes) da fruta. Colocar a fruta num tabuleiro, polvilhar com canela e regar com um pouco de água. Levar ao forno até assar.
D159: Pera | E159: 80 | F159: 80 | G159: 160 | H159: 160
D160: Canela em pó | E160: 0.1 | F160: 0.1 | G160: 0.1 | H160: 0.1
A181: Nº | B181: Nome | D181: Ingredientes | E181: JI | F181: 1.º CEB | G181: 2.º e 3.º CEB | H181: Sec. | J181: Preparação/Confeção
A183: SOB8 | B183: Fruta cozida (maçã ou pera) | D183: Maçã | E183: 80 | F183: 80 | G183: 160 | H183: 160 | J183: Descascar e lavar a fruta sem lhe retirar o cabo. Levar a cozer em água a ferver com raspas de limão ou colocar em tabuleiro perfurado e levar ao forno convetor a cozer a vapor, polvilhado com raspas de limão. Polvilhar com canela em pó antes de servir.
...

Sheet FTPÃO
D3: FICHAS TÉCNICAS PÃO
A5: Nº | B5: Nome | D5: Ingredientes | E5: JI | F5: 1.º CEB | G5: 2.º e 3.º CEB | H5: Sec. | J5: Preparação/Confeção
A7: 1 | B7: Pão de mistura e broa | D7: Pão de Mistura | E7: 25 | F7: 25 | G7: 45 | H7: 45 | J7: Pão de mistura de fabrico industrial, entregue no dia de consumo.
